BEGIN:VCALENDAR
VERSION:2.0
PRODID:-//Irma Mier .:. Bienestar, Salud y Desarrollo Personal - ECPv6.15.20//NONSGML v1.0//EN
CALSCALE:GREGORIAN
METHOD:PUBLISH
X-WR-CALNAME:Irma Mier .:. Bienestar, Salud y Desarrollo Personal
X-ORIGINAL-URL:https://irmamier.com
X-WR-CALDESC:Eventos para Irma Mier .:. Bienestar, Salud y Desarrollo Personal
REFRESH-INTERVAL;VALUE=DURATION:PT1H
X-Robots-Tag:noindex
X-PUBLISHED-TTL:PT1H
BEGIN:VTIMEZONE
TZID:Europe/Madrid
BEGIN:DAYLIGHT
TZOFFSETFROM:+0100
TZOFFSETTO:+0200
TZNAME:CEST
DTSTART:20230326T010000
END:DAYLIGHT
BEGIN:STANDARD
TZOFFSETFROM:+0200
TZOFFSETTO:+0100
TZNAME:CET
DTSTART:20231029T010000
END:STANDARD
BEGIN:DAYLIGHT
TZOFFSETFROM:+0100
TZOFFSETTO:+0200
TZNAME:CEST
DTSTART:20240331T010000
END:DAYLIGHT
BEGIN:STANDARD
TZOFFSETFROM:+0200
TZOFFSETTO:+0100
TZNAME:CET
DTSTART:20241027T010000
END:STANDARD
BEGIN:DAYLIGHT
TZOFFSETFROM:+0100
TZOFFSETTO:+0200
TZNAME:CEST
DTSTART:20250330T010000
END:DAYLIGHT
BEGIN:STANDARD
TZOFFSETFROM:+0200
TZOFFSETTO:+0100
TZNAME:CET
DTSTART:20251026T010000
END:STANDARD
BEGIN:DAYLIGHT
TZOFFSETFROM:+0100
TZOFFSETTO:+0200
TZNAME:CEST
DTSTART:20260329T010000
END:DAYLIGHT
BEGIN:STANDARD
TZOFFSETFROM:+0200
TZOFFSETTO:+0100
TZNAME:CET
DTSTART:20261025T010000
END:STANDARD
END:VTIMEZONE
BEGIN:VEVENT
DTSTART;TZID=Europe/Madrid:20250328T180000
DTEND;TZID=Europe/Madrid:20250328T200000
DTSTAMP:20260422T084120
CREATED:20240905T165312Z
LAST-MODIFIED:20250214T110531Z
UID:10000045-1743184800-1743192000@irmamier.com
SUMMARY:Laboratorio de la presencia en Getxo
DESCRIPTION:[Aquí y Ahora\, Ser] \nLaboratorio de la Presencia es un espacio donde disfrutar practicando la Presencia Consciente desde la libertad de Ser\, aquí y ahora. \nTe propongo descubrir los beneficios de practicar la Presencia de manera gozosa\, en un espacio grupal acogedor y respetuoso\, con otras personas afines\, que como tú\, quieren aprender a estar en Paz y Coherencia Interna\, o reforzar y potenciar estas cualidades\, y vivir la vida con mayor plenitud y confianza\, para su bien mayor y el bien de Todo lo que formamos parte. \nEs un laboratorio vivencial donde conectar el cuerpo con la sabiduría del alma y la fuerza creadora del espíritu\, y generar salud\, bienestar y evolución consciente en tu persona y en tu vida. \n+ Información / Informazio +: \n\n\n\nLaboratorio de la Presencia
URL:https://irmamier.com/proxima-actividad/laboratorio-de-la-presencia-en-getxo/2025-03-28/
LOCATION:Algorta Yoga Shala\, C/ Ganekogorta\, 8\, Getxo\, Bizkaia
CATEGORIES:Laboratorio de la Presencia
ATTACH;FMTTYPE=image/png:https://irmamier.com/wp-content/uploads/2022/03/Presencia.png
ORGANIZER;CN="Irma Mier":MAILTO:infoirmamier@gmail.com
END:VEVENT
BEGIN:VEVENT
DTSTART;VALUE=DATE:20250323
DTEND;VALUE=DATE:20250324
DTSTAMP:20260422T084120
CREATED:20240905T172042Z
LAST-MODIFIED:20250215T100201Z
UID:10000033-1742688000-1742774399@irmamier.com
SUMMARY:Celebración de la Primavera
DESCRIPTION:Vamos a celebrar la entrada de la Primavera en un encuentro en Naturaleza\, sintonizándonos con la energía de la estación que abre paso al resurgir de un nuevo ciclo de Vida.
URL:https://irmamier.com/proxima-actividad/ecologia-del-ser-retiro-de-primavera/
CATEGORIES:Celebración de la Primavera,Encuentros en Naturaleza
ATTACH;FMTTYPE=image/jpeg:https://irmamier.com/wp-content/uploads/2021/04/arno-smit-sKJ7zSylUao-unsplash.jpg
ORGANIZER;CN="Irma Mier":MAILTO:infoirmamier@gmail.com
END:VEVENT
BEGIN:VEVENT
DTSTART;TZID=Europe/Madrid:20250304T200000
DTEND;TZID=Europe/Madrid:20250304T210000
DTSTAMP:20260422T084120
CREATED:20250214T122943Z
LAST-MODIFIED:20250214T122943Z
UID:10000052-1741118400-1741122000@irmamier.com
SUMMARY:Enfoca y Magnetiza
DESCRIPTION:Te invito a «ENFOCAR-T» para vivir tu realidad y deseos personales en sintonía con lo que la Vida nos propone en estos tiempos. \nClases semanales OnLine. De octubre a Junio. Puedes incorporarte al curso la  primera semana de cada mes. \n\nLunes por la mañana\, de 10h a 11h\nMartes por la tarde\, de 20h a 21h\n\nDe esta forma empezarás la semana cómodamente desde tu casa\, tomando conciencia de tu momento presente\, regulándote\, entrando en coherencia interna y conectando con la Energía. \nDesde ese estado de bienestar consciente y autorresponsable elegimos cómo deseamos vivir\, identificando los cambios que necesitamos y podemos hacer en nuestro día a día\, paso a paso\, para sentirnos mejor y co-crear un mejor futuro individual y colectivo. \n\nRepasar tus hábitos físicos de descanso\, alimentación y movimiento corporal.\nAtender tus necesidades emocionales y afectivas.\nLimpiar y cultivar tu mente y tu espíritu.\nMantener alta tu vibración.\nDarte cuenta de aquello que te frena o contrae\, y de lo que te alienta y te expande\, y el impacto que esto tiene en tu entorno y en el mundo.
URL:https://irmamier.com/proxima-actividad/enfoca-y-magnetiza-2/2025-03-04/
CATEGORIES:Enfoca y Magnetiza Online
ORGANIZER;CN="Irma Mier":MAILTO:infoirmamier@gmail.com
LOCATION:
END:VEVENT
BEGIN:VEVENT
DTSTART;TZID=Europe/Madrid:20250303T100000
DTEND;TZID=Europe/Madrid:20250303T110000
DTSTAMP:20260422T084120
CREATED:20250214T121407Z
LAST-MODIFIED:20250214T121407Z
UID:10000047-1740996000-1740999600@irmamier.com
SUMMARY:Enfoca y Magnetiza OnLine
DESCRIPTION:Te invito a «ENFOCAR-T» para vivir tu realidad y deseos personales en sintonía con lo que la Vida nos propone en estos tiempos. \nClases semanales OnLine. De octubre a Junio. Puedes incorporarte al curso la  primera semana de cada mes. \n\nLunes por la mañana\, de 10h a 11h\nMartes por la tarde\, de 20h a 21h\n\nDe esta forma empezarás la semana cómodamente desde tu casa\, tomando conciencia de tu momento presente\, regulándote\, entrando en coherencia interna y conectando con la Energía. \nDesde ese estado de bienestar consciente y autorresponsable elegimos cómo deseamos vivir\, identificando los cambios que necesitamos y podemos hacer en nuestro día a día\, paso a paso\, para sentirnos mejor y co-crear un mejor futuro individual y colectivo. \n\nRepasar tus hábitos físicos de descanso\, alimentación y movimiento corporal.\nAtender tus necesidades emocionales y afectivas.\nLimpiar y cultivar tu mente y tu espíritu.\nMantener alta tu vibración.\nDarte cuenta de aquello que te frena o contrae\, y de lo que te alienta y te expande\, y el impacto que esto tiene en tu entorno y en el mundo.
URL:https://irmamier.com/proxima-actividad/enfoca-y-magnetiza-online-2/2025-03-03/
CATEGORIES:Enfoca y Magnetiza Online
ATTACH;FMTTYPE=image/png:https://irmamier.com/wp-content/uploads/2022/03/Enfoca-1.png
ORGANIZER;CN="Irma Mier":MAILTO:infoirmamier@gmail.com
LOCATION:
END:VEVENT
BEGIN:VEVENT
DTSTART;TZID=Europe/Madrid:20250228T180000
DTEND;TZID=Europe/Madrid:20250228T200000
DTSTAMP:20260422T084120
CREATED:20240905T165312Z
LAST-MODIFIED:20250214T110531Z
UID:10000024-1740765600-1740772800@irmamier.com
SUMMARY:Laboratorio de la presencia en Getxo
DESCRIPTION:[Aquí y Ahora\, Ser] \nLaboratorio de la Presencia es un espacio donde disfrutar practicando la Presencia Consciente desde la libertad de Ser\, aquí y ahora. \nTe propongo descubrir los beneficios de practicar la Presencia de manera gozosa\, en un espacio grupal acogedor y respetuoso\, con otras personas afines\, que como tú\, quieren aprender a estar en Paz y Coherencia Interna\, o reforzar y potenciar estas cualidades\, y vivir la vida con mayor plenitud y confianza\, para su bien mayor y el bien de Todo lo que formamos parte. \nEs un laboratorio vivencial donde conectar el cuerpo con la sabiduría del alma y la fuerza creadora del espíritu\, y generar salud\, bienestar y evolución consciente en tu persona y en tu vida. \n+ Información / Informazio +: \n\n\n\nLaboratorio de la Presencia
URL:https://irmamier.com/proxima-actividad/laboratorio-de-la-presencia-en-getxo/2025-02-28/
LOCATION:Algorta Yoga Shala\, C/ Ganekogorta\, 8\, Getxo\, Bizkaia
CATEGORIES:Laboratorio de la Presencia
ATTACH;FMTTYPE=image/png:https://irmamier.com/wp-content/uploads/2022/03/Presencia.png
ORGANIZER;CN="Irma Mier":MAILTO:infoirmamier@gmail.com
END:VEVENT
BEGIN:VEVENT
DTSTART;TZID=Europe/Madrid:20250131T180000
DTEND;TZID=Europe/Madrid:20250131T200000
DTSTAMP:20260422T084120
CREATED:20240905T165312Z
LAST-MODIFIED:20250214T110531Z
UID:10000023-1738346400-1738353600@irmamier.com
SUMMARY:Laboratorio de la presencia en Getxo
DESCRIPTION:[Aquí y Ahora\, Ser] \nLaboratorio de la Presencia es un espacio donde disfrutar practicando la Presencia Consciente desde la libertad de Ser\, aquí y ahora. \nTe propongo descubrir los beneficios de practicar la Presencia de manera gozosa\, en un espacio grupal acogedor y respetuoso\, con otras personas afines\, que como tú\, quieren aprender a estar en Paz y Coherencia Interna\, o reforzar y potenciar estas cualidades\, y vivir la vida con mayor plenitud y confianza\, para su bien mayor y el bien de Todo lo que formamos parte. \nEs un laboratorio vivencial donde conectar el cuerpo con la sabiduría del alma y la fuerza creadora del espíritu\, y generar salud\, bienestar y evolución consciente en tu persona y en tu vida. \n+ Información / Informazio +: \n\n\n\nLaboratorio de la Presencia
URL:https://irmamier.com/proxima-actividad/laboratorio-de-la-presencia-en-getxo/2025-01-31/
LOCATION:Algorta Yoga Shala\, C/ Ganekogorta\, 8\, Getxo\, Bizkaia
CATEGORIES:Laboratorio de la Presencia
ATTACH;FMTTYPE=image/png:https://irmamier.com/wp-content/uploads/2022/03/Presencia.png
ORGANIZER;CN="Irma Mier":MAILTO:infoirmamier@gmail.com
END:VEVENT
BEGIN:VEVENT
DTSTART;VALUE=DATE:20241220
DTEND;VALUE=DATE:20241223
DTSTAMP:20260422T084120
CREATED:20240905T171715Z
LAST-MODIFIED:20240905T171715Z
UID:10000032-1734652800-1734911999@irmamier.com
SUMMARY:Ecología del Ser: Retiro de invierno
DESCRIPTION:Plantando una semilla para un nuevo florecer a la luz de la Consciencia \n¿Qué es Ecología del Ser? \nEcología del Ser es un Programa para el auto-conocimiento en el camino evolutivo y despertar de la Conciencia\, donde fertilizamos y plantamos nuevas Semillas individuales y colectivas para la gestación y desarrollo de una nueva humanidad. \nFacilitan: \nIrma Mier & Saloa Madariaga. \n+ Información / Informazio +: \nEcología del Ser – Izatearen Ekologia
URL:https://irmamier.com/proxima-actividad/ecologia-del-ser-retiro-de-invierno/
CATEGORIES:Retiros en Naturaleza. Ecología del Ser
ATTACH;FMTTYPE=image/webp:https://irmamier.com/wp-content/uploads/2023/10/IMG_20230916_163034_729.webp
ORGANIZER;CN="Irma Mier":MAILTO:infoirmamier@gmail.com
END:VEVENT
BEGIN:VEVENT
DTSTART;TZID=Europe/Madrid:20241122T180000
DTEND;TZID=Europe/Madrid:20241122T200000
DTSTAMP:20260422T084120
CREATED:20240905T165312Z
LAST-MODIFIED:20250214T110531Z
UID:10000022-1732298400-1732305600@irmamier.com
SUMMARY:Laboratorio de la presencia en Getxo
DESCRIPTION:[Aquí y Ahora\, Ser] \nLaboratorio de la Presencia es un espacio donde disfrutar practicando la Presencia Consciente desde la libertad de Ser\, aquí y ahora. \nTe propongo descubrir los beneficios de practicar la Presencia de manera gozosa\, en un espacio grupal acogedor y respetuoso\, con otras personas afines\, que como tú\, quieren aprender a estar en Paz y Coherencia Interna\, o reforzar y potenciar estas cualidades\, y vivir la vida con mayor plenitud y confianza\, para su bien mayor y el bien de Todo lo que formamos parte. \nEs un laboratorio vivencial donde conectar el cuerpo con la sabiduría del alma y la fuerza creadora del espíritu\, y generar salud\, bienestar y evolución consciente en tu persona y en tu vida. \n+ Información / Informazio +: \n\n\n\nLaboratorio de la Presencia
URL:https://irmamier.com/proxima-actividad/laboratorio-de-la-presencia-en-getxo/2024-11-22/
LOCATION:Algorta Yoga Shala\, C/ Ganekogorta\, 8\, Getxo\, Bizkaia
CATEGORIES:Laboratorio de la Presencia
ATTACH;FMTTYPE=image/png:https://irmamier.com/wp-content/uploads/2022/03/Presencia.png
ORGANIZER;CN="Irma Mier":MAILTO:infoirmamier@gmail.com
END:VEVENT
BEGIN:VEVENT
DTSTART;TZID=Europe/Madrid:20241116T100000
DTEND;TZID=Europe/Madrid:20241117T180000
DTSTAMP:20260422T084120
CREATED:20240905T173609Z
LAST-MODIFIED:20241021T155156Z
UID:10000035-1731751200-1731866400@irmamier.com
SUMMARY:Curso Reiki 1º Nivel en Getxo
DESCRIPTION:Como practicante\, estudiosa y terapeuta Reiki durante más de veinticinco años\, y maestra Reiki desde 2011\, tengo el placer de compartir contigo la enseñanza de este sencillo y profundo método de sanación natural de origen japonés\, que mediante la imposición de manos y la correcta actitud\, estoy segura te aportará bienestar\, salud\, armonía y desarrollo consciente a ti y a tu entorno. \nLa formación de Reiki se divide en tres niveles o cursos progresivos pero independientes. \nCon lo cual puedes iniciarte en un Primer Nivel de Reiki para adquirir cierto manejo consciente de la energía sanadora para el mantenimiento de tu salud y bienestar y la de tus seres queridos\, a nivel de “usuario”. Este primer nivel constituye en sí mismo una herramienta valiosísima y de sencilla aplicación diaria que te acompañará de por vida\, si así lo deseas y practicas. \n• Fechas: *26 y 27 de Octubre*\n• Sábado\, de 10:00h a 18:00h\n• Domingo\, de 10:00h a 14:00h\n• Inversión: 180€ (21% IVA incl.)\n• Imparte: Irma Mier \n♡ Atención personalizada\n♡ Se entrega manual de práctica\n♡ Apoyo y seguimiento de las prácticas personales durante los siguientes 21 días posteriores al curso mediante grupo de WhatsApp \nReserva tu plaza en el 645005805 Tel\, WhatsApp o Telegram (Irma) \n*+ Info y programa*\nhttps://irmamier.com/formacion-reiki/
URL:https://irmamier.com/proxima-actividad/curso-reiki-1o-nivel-en-getxo-2/
CATEGORIES:Curso de Reiki 1
ATTACH;FMTTYPE=image/png:https://irmamier.com/wp-content/uploads/2023/08/Reiki.png
ORGANIZER;CN="Irma Mier":MAILTO:infoirmamier@gmail.com
END:VEVENT
BEGIN:VEVENT
DTSTART;TZID=Europe/Madrid:20241027T100000
DTEND;TZID=Europe/Madrid:20241027T140000
DTSTAMP:20260422T084120
CREATED:20240905T173156Z
LAST-MODIFIED:20240905T173156Z
UID:10000036-1730023200-1730037600@irmamier.com
SUMMARY:Curso Reiki 1º Nivel en Getxo
DESCRIPTION:Como practicante\, estudiosa y terapeuta Reiki durante más de veinticinco años\, y maestra Reiki desde 2011\, tengo el placer de compartir contigo la enseñanza de este sencillo y profundo método de sanación natural de origen japonés\, que mediante la imposición de manos y la correcta actitud\, estoy segura te aportará bienestar\, salud\, armonía y desarrollo consciente a ti y a tu entorno. \nLa formación de Reiki se divide en tres niveles o cursos progresivos pero independientes. \nCon lo cual puedes iniciarte en un Primer Nivel de Reiki para adquirir cierto manejo consciente de la energía sanadora para el mantenimiento de tu salud y bienestar y la de tus seres queridos\, a nivel de “usuario”. Este primer nivel constituye en sí mismo una herramienta valiosísima y de sencilla aplicación diaria que te acompañará de por vida\, si así lo deseas y practicas. \n• Fechas: *26 y 27 de Octubre*\n• Sábado\, de 10:00h a 18:00h\n• Domingo\, de 10:00h a 14:00h\n• Inversión: 180€ (21% IVA incl.)\n• Imparte: Irma Mier \n♡ Atención personalizada\n♡ Se entrega manual de práctica\n♡ Apoyo y seguimiento de las prácticas personales durante los siguientes 21 días posteriores al curso mediante grupo de WhatsApp \nReserva tu plaza en el 645005805 Tel\, WhatsApp o Telegram (Irma) \n*+ Info y programa*\nhttps://irmamier.com/formacion-reiki/
URL:https://irmamier.com/proxima-actividad/curso-reiki-1o-nivel-en-getxo/2024-10-27/
CATEGORIES:Curso de Reiki 1
ATTACH;FMTTYPE=image/png:https://irmamier.com/wp-content/uploads/2023/08/Reiki.png
ORGANIZER;CN="Irma Mier":MAILTO:infoirmamier@gmail.com
END:VEVENT
BEGIN:VEVENT
DTSTART;TZID=Europe/Madrid:20241025T180000
DTEND;TZID=Europe/Madrid:20241025T200000
DTSTAMP:20260422T084120
CREATED:20240905T165312Z
LAST-MODIFIED:20250214T110531Z
UID:10000021-1729879200-1729886400@irmamier.com
SUMMARY:Laboratorio de la presencia en Getxo
DESCRIPTION:[Aquí y Ahora\, Ser] \nLaboratorio de la Presencia es un espacio donde disfrutar practicando la Presencia Consciente desde la libertad de Ser\, aquí y ahora. \nTe propongo descubrir los beneficios de practicar la Presencia de manera gozosa\, en un espacio grupal acogedor y respetuoso\, con otras personas afines\, que como tú\, quieren aprender a estar en Paz y Coherencia Interna\, o reforzar y potenciar estas cualidades\, y vivir la vida con mayor plenitud y confianza\, para su bien mayor y el bien de Todo lo que formamos parte. \nEs un laboratorio vivencial donde conectar el cuerpo con la sabiduría del alma y la fuerza creadora del espíritu\, y generar salud\, bienestar y evolución consciente en tu persona y en tu vida. \n+ Información / Informazio +: \n\n\n\nLaboratorio de la Presencia
URL:https://irmamier.com/proxima-actividad/laboratorio-de-la-presencia-en-getxo/2024-10-25/
LOCATION:Algorta Yoga Shala\, C/ Ganekogorta\, 8\, Getxo\, Bizkaia
CATEGORIES:Laboratorio de la Presencia
ATTACH;FMTTYPE=image/png:https://irmamier.com/wp-content/uploads/2022/03/Presencia.png
ORGANIZER;CN="Irma Mier":MAILTO:infoirmamier@gmail.com
END:VEVENT
BEGIN:VEVENT
DTSTART;VALUE=DATE:20241011
DTEND;VALUE=DATE:20241014
DTSTAMP:20260422T084120
CREATED:20240905T171410Z
LAST-MODIFIED:20240905T171527Z
UID:10000031-1728604800-1728863999@irmamier.com
SUMMARY:Ecología del Ser: Retiro de otoño
DESCRIPTION:Plantando una semilla para un nuevo florecer a la luz de la Consciencia \n¿Qué es Ecología del Ser? \nEcología del Ser es un Programa para el auto-conocimiento en el camino evolutivo y despertar de la Conciencia\, donde fertilizamos y plantamos nuevas Semillas individuales y colectivas para la gestación y desarrollo de una nueva humanidad. \nFacilitan: \nIrma Mier & Saloa Madariaga. \n+ Información / Informazio +: \nEcología del Ser – Izatearen Ekologia
URL:https://irmamier.com/proxima-actividad/ecologia-del-ser-retiro-de-otono/
CATEGORIES:Retiros en Naturaleza. Ecología del Ser
ATTACH;FMTTYPE=image/webp:https://irmamier.com/wp-content/uploads/2023/10/IMG_20230916_163034_729.webp
ORGANIZER;CN="Irma Mier":MAILTO:infoirmamier@gmail.com
END:VEVENT
BEGIN:VEVENT
DTSTART;TZID=Europe/Madrid:20241001T200000
DTEND;TZID=Europe/Madrid:20241001T210000
DTSTAMP:20260422T084120
CREATED:20240905T170330Z
LAST-MODIFIED:20240905T175558Z
UID:10000030-1727812800-1727816400@irmamier.com
SUMMARY:Enfoca y magnetiza online
DESCRIPTION:Te invito a «ENFOCAR-T» para vivir tu realidad y deseos personales en sintonía con lo que la Vida nos propone en estos tiempos. \nTomar conciencia de cómo estás aquí y ahora\, para darte cuenta de cómo quieres estar y así identificar los cambios que necesitas hacer en el presente para sentirte mejor. \n\nRepasar tus hábitos físicos de sueño\, alimentación y movimiento corporal.\nAtender tus necesidades emocionales y afectivas.\nLimpiar y cultivar tu mente y tu espíritu.\nMantener alta tu vibración.\n\nDarte cuenta de aquello que te frena o contrae\, y de lo que te alienta y te expande. \n\n\n\nGrupo 1 Lunes a las 10:00h. \nGrupo 2 Martes a las 20:00h. \n+ Información / Informazio + : \nTaller Enfoca
URL:https://irmamier.com/proxima-actividad/enfoca-y-magnetiza-online/2024-10-01/
CATEGORIES:Enfoca y Magnetiza Online
ATTACH;FMTTYPE=image/png:https://irmamier.com/wp-content/uploads/2022/03/Enfoca.png
ORGANIZER;CN="Irma Mier":MAILTO:infoirmamier@gmail.com
END:VEVENT
BEGIN:VEVENT
DTSTART;TZID=Europe/Madrid:20240930T100000
DTEND;TZID=Europe/Madrid:20240930T110000
DTSTAMP:20260422T084120
CREATED:20240905T170330Z
LAST-MODIFIED:20240905T175558Z
UID:10000029-1727690400-1727694000@irmamier.com
SUMMARY:Enfoca y magnetiza online
DESCRIPTION:Te invito a «ENFOCAR-T» para vivir tu realidad y deseos personales en sintonía con lo que la Vida nos propone en estos tiempos. \nTomar conciencia de cómo estás aquí y ahora\, para darte cuenta de cómo quieres estar y así identificar los cambios que necesitas hacer en el presente para sentirte mejor. \n\nRepasar tus hábitos físicos de sueño\, alimentación y movimiento corporal.\nAtender tus necesidades emocionales y afectivas.\nLimpiar y cultivar tu mente y tu espíritu.\nMantener alta tu vibración.\n\nDarte cuenta de aquello que te frena o contrae\, y de lo que te alienta y te expande. \n\n\n\nGrupo 1 Lunes a las 10:00h. \nGrupo 2 Martes a las 20:00h. \n+ Información / Informazio + : \nTaller Enfoca
URL:https://irmamier.com/proxima-actividad/enfoca-y-magnetiza-online/2024-09-30/
CATEGORIES:Enfoca y Magnetiza Online
ATTACH;FMTTYPE=image/png:https://irmamier.com/wp-content/uploads/2022/03/Enfoca.png
ORGANIZER;CN="Irma Mier":MAILTO:infoirmamier@gmail.com
END:VEVENT
BEGIN:VEVENT
DTSTART;TZID=Europe/Madrid:20240927T180000
DTEND;TZID=Europe/Madrid:20240927T200000
DTSTAMP:20260422T084120
CREATED:20240905T165312Z
LAST-MODIFIED:20250214T110531Z
UID:10000020-1727460000-1727467200@irmamier.com
SUMMARY:Laboratorio de la presencia en Getxo
DESCRIPTION:[Aquí y Ahora\, Ser] \nLaboratorio de la Presencia es un espacio donde disfrutar practicando la Presencia Consciente desde la libertad de Ser\, aquí y ahora. \nTe propongo descubrir los beneficios de practicar la Presencia de manera gozosa\, en un espacio grupal acogedor y respetuoso\, con otras personas afines\, que como tú\, quieren aprender a estar en Paz y Coherencia Interna\, o reforzar y potenciar estas cualidades\, y vivir la vida con mayor plenitud y confianza\, para su bien mayor y el bien de Todo lo que formamos parte. \nEs un laboratorio vivencial donde conectar el cuerpo con la sabiduría del alma y la fuerza creadora del espíritu\, y generar salud\, bienestar y evolución consciente en tu persona y en tu vida. \n+ Información / Informazio +: \n\n\n\nLaboratorio de la Presencia
URL:https://irmamier.com/proxima-actividad/laboratorio-de-la-presencia-en-getxo/2024-09-27/
LOCATION:Algorta Yoga Shala\, C/ Ganekogorta\, 8\, Getxo\, Bizkaia
CATEGORIES:Laboratorio de la Presencia
ATTACH;FMTTYPE=image/png:https://irmamier.com/wp-content/uploads/2022/03/Presencia.png
ORGANIZER;CN="Irma Mier":MAILTO:infoirmamier@gmail.com
END:VEVENT
END:VCALENDAR