BEGIN:VCALENDAR
VERSION:2.0
PRODID:-//Irma Mier .:. Bienestar, Salud y Desarrollo Personal - ECPv6.15.20//NONSGML v1.0//EN
CALSCALE:GREGORIAN
METHOD:PUBLISH
X-WR-CALNAME:Irma Mier .:. Bienestar, Salud y Desarrollo Personal
X-ORIGINAL-URL:https://irmamier.com
X-WR-CALDESC:Eventos para Irma Mier .:. Bienestar, Salud y Desarrollo Personal
REFRESH-INTERVAL;VALUE=DURATION:PT1H
X-Robots-Tag:noindex
X-PUBLISHED-TTL:PT1H
BEGIN:VTIMEZONE
TZID:Europe/Madrid
BEGIN:DAYLIGHT
TZOFFSETFROM:+0100
TZOFFSETTO:+0200
TZNAME:CEST
DTSTART:20250330T010000
END:DAYLIGHT
BEGIN:STANDARD
TZOFFSETFROM:+0200
TZOFFSETTO:+0100
TZNAME:CET
DTSTART:20251026T010000
END:STANDARD
BEGIN:DAYLIGHT
TZOFFSETFROM:+0100
TZOFFSETTO:+0200
TZNAME:CEST
DTSTART:20260329T010000
END:DAYLIGHT
BEGIN:STANDARD
TZOFFSETFROM:+0200
TZOFFSETTO:+0100
TZNAME:CET
DTSTART:20261025T010000
END:STANDARD
BEGIN:DAYLIGHT
TZOFFSETFROM:+0100
TZOFFSETTO:+0200
TZNAME:CEST
DTSTART:20270328T010000
END:DAYLIGHT
BEGIN:STANDARD
TZOFFSETFROM:+0200
TZOFFSETTO:+0100
TZNAME:CET
DTSTART:20271031T010000
END:STANDARD
END:VTIMEZONE
BEGIN:VEVENT
DTSTART;TZID=Europe/Madrid:20260622T100000
DTEND;TZID=Europe/Madrid:20260622T110000
DTSTAMP:20260422T182355
CREATED:20250927T083909Z
LAST-MODIFIED:20250927T090654Z
UID:10000103-1782122400-1782126000@irmamier.com
SUMMARY:ENFOCA Y MAGNETIZA. OnLine. Semanal. Lunes 10-11h.
DESCRIPTION:En tiempos convulsos y acelerados como los que estamos viviendo\, es crucial tomar autorresponsabilidad en el cuidado y bienestar propio\, para evitar ser manipulados y dejarse arrastrar por inercias y estados colectivos tóxicos. Mantenerte en tu eje de claridad mental\, discernimiento y equilibrio emocional\, para tomar las mejores decisiones y actuar en coherencia te ayuda a ti y contribuye al bienestar de tu entorno. Tu estado físico\, mental\, emocional y energético tiene un impacto directo en los seres que te rodean. Somos gotitas de agua del gran océano. ENFOCA Y MAGNETIZA es un espacio para mantener alta tu vibración y propiciar el despertar de la Conciencia. Por resonancia\, en grupo\, nos inspiramos y potenciamos mutuamente. Es sano para ti y es sano para todxs. Activamos el mejor potencial\, la mejor línea temporal individual y colectiva. Hace falta una masa crítica suficiente\, comprometida y constante para la evolución de la humanidad. ¿Te animas a participar? \nPrecio mensual: 45€ hilean
URL:https://irmamier.com/proxima-actividad/enfoca-y-magnetiza-online-3/2026-06-22/
CATEGORIES:Enfoca y Magnetiza Online
ATTACH;FMTTYPE=image/png:https://irmamier.com/wp-content/uploads/2022/03/Enfoca-1.png
ORGANIZER;CN="Irma Mier":MAILTO:infoirmamier@gmail.com
END:VEVENT
BEGIN:VEVENT
DTSTART;TZID=Europe/Madrid:20260623T134500
DTEND;TZID=Europe/Madrid:20260623T144500
DTSTAMP:20260422T182355
CREATED:20250927T091050Z
LAST-MODIFIED:20251020T164504Z
UID:10001061-1782222300-1782225900@irmamier.com
SUMMARY:MEDITACIÓN Y MÁS. Bilbao
DESCRIPTION:En Gyrotonic Bilbao. Los martes al medio día. \nClases semanales de meditación y autoconocimiento para el bienestar y el desarrollo personal. \n 
URL:https://irmamier.com/proxima-actividad/meditacion-y-mas-bilbao/2026-06-23/
CATEGORIES:Meditación en Bilbao
ATTACH;FMTTYPE=image/jpeg:https://irmamier.com/wp-content/uploads/2017/03/emakumea-meditatzen.jpg
ORGANIZER;CN="Irma Mier":MAILTO:infoirmamier@gmail.com
END:VEVENT
BEGIN:VEVENT
DTSTART;TZID=Europe/Madrid:20260623T193000
DTEND;TZID=Europe/Madrid:20260623T203000
DTSTAMP:20260422T182355
CREATED:20250927T084917Z
LAST-MODIFIED:20250927T085943Z
UID:10000365-1782243000-1782246600@irmamier.com
SUMMARY:ENFOCA Y MAGNETIZA. OnLine. Semanal Martes de 19:30h a 20:30h.
DESCRIPTION:En tiempos convulsos y acelerados como los que estamos viviendo\, es crucial tomar autorresponsabilidad en el cuidado y bienestar propio\, para evitar ser manipulados y dejarse arrastrar por inercias y estados colectivos tóxicos. Mantenerte en tu eje de claridad mental\, discernimiento y equilibrio emocional\, para tomar las mejores decisiones y actuar en coherencia te ayuda a ti y contribuye al bienestar de tu entorno. Tu estado físico\, mental\, emocional y energético tiene un impacto directo en los seres que te rodean. Somos gotitas de agua del gran océano. ENFOCA Y MAGNETIZA es un espacio para mantener alta tu vibración y propiciar el despertar de la Conciencia. Por resonancia\, en grupo\, nos inspiramos y potenciamos mutuamente. Es sano para ti y es sano para todxs. Activamos el mejor potencial\, la mejor línea temporal individual y colectiva. Hace falta una masa crítica suficiente\, comprometida y constante para la evolución de la humanidad. ¿Te animas a participar?. \nPrecio mensual: 45€ hilean
URL:https://irmamier.com/proxima-actividad/enfoca-y-magnetiza-online-semanal-martes-de-1930h-a-2030h/2026-06-23/
CATEGORIES:Enfoca y Magnetiza Online
ATTACH;FMTTYPE=image/png:https://irmamier.com/wp-content/uploads/2022/03/Enfoca-1.png
ORGANIZER;CN="Irma Mier":MAILTO:infoirmamier@gmail.com
END:VEVENT
BEGIN:VEVENT
DTSTART;TZID=Europe/Madrid:20260626T180000
DTEND;TZID=Europe/Madrid:20260626T200000
DTSTAMP:20260422T182355
CREATED:20250927T092040Z
LAST-MODIFIED:20251020T164705Z
UID:10000642-1782496800-1782504000@irmamier.com
SUMMARY:LABORATORIO DE LA PRESENCIA. Getxo. Mensual\, último viernes de cada mes.
DESCRIPTION:Programa para el autoconocimiento\, desarrollo personal y expansión de la conciencia. 5ª edición. \nEn Algorta Yoga Shala. Getxo (Bizkaia) \n9 talleres\, de Octubre a Junio. Cada último viernes de mes\, de 18:00h a 20:00h. \nEs un “laboratorio” seguro\, amable y nutricio en el que podemos aprender y entrenar de manera creativa aspectos como: elevar nuestra vibración energética\, disolver bloqueos y limitaciones\, fortalecer capacidades propias\, adquirir nuevas habilidades de autocuidado y comunicación afectiva\, ganar confianza en una misma\, cultivar la autorresponsabilidad y el poder personal\, amarnos más y mejor\, relacionarnos con mayor respeto y empatía\, ser y dejar ser. El objetivo final es integrar en nuestra vida cotidiana\, de manera muy natural\, todo aquello que vamos descubriendo y activando en nosotras mismas a lo largo de los meses\, generando un impacto positivo en nuestros círculos de relación (familia\, amistades\, trabajo\, comunidad). \nPrecio: 35€ sesión / 35€ saioa. \n 
URL:https://irmamier.com/proxima-actividad/laboratorio-de-la-presencia-getxo-mensual-ultimo-viernes-de-cada-mes/2026-06-26/
LOCATION:Algorta Yoga Shala\, C/ Ganekogorta\, 8\, Getxo\, Bizkaia
ATTACH;FMTTYPE=image/png:https://irmamier.com/wp-content/uploads/2022/03/Presencia.png
ORGANIZER;CN="Irma Mier":MAILTO:infoirmamier@gmail.com
END:VEVENT
BEGIN:VEVENT
DTSTART;TZID=Europe/Madrid:20260629T100000
DTEND;TZID=Europe/Madrid:20260629T110000
DTSTAMP:20260422T182355
CREATED:20250927T083909Z
LAST-MODIFIED:20250927T090654Z
UID:10000104-1782727200-1782730800@irmamier.com
SUMMARY:ENFOCA Y MAGNETIZA. OnLine. Semanal. Lunes 10-11h.
DESCRIPTION:En tiempos convulsos y acelerados como los que estamos viviendo\, es crucial tomar autorresponsabilidad en el cuidado y bienestar propio\, para evitar ser manipulados y dejarse arrastrar por inercias y estados colectivos tóxicos. Mantenerte en tu eje de claridad mental\, discernimiento y equilibrio emocional\, para tomar las mejores decisiones y actuar en coherencia te ayuda a ti y contribuye al bienestar de tu entorno. Tu estado físico\, mental\, emocional y energético tiene un impacto directo en los seres que te rodean. Somos gotitas de agua del gran océano. ENFOCA Y MAGNETIZA es un espacio para mantener alta tu vibración y propiciar el despertar de la Conciencia. Por resonancia\, en grupo\, nos inspiramos y potenciamos mutuamente. Es sano para ti y es sano para todxs. Activamos el mejor potencial\, la mejor línea temporal individual y colectiva. Hace falta una masa crítica suficiente\, comprometida y constante para la evolución de la humanidad. ¿Te animas a participar? \nPrecio mensual: 45€ hilean
URL:https://irmamier.com/proxima-actividad/enfoca-y-magnetiza-online-3/2026-06-29/
CATEGORIES:Enfoca y Magnetiza Online
ATTACH;FMTTYPE=image/png:https://irmamier.com/wp-content/uploads/2022/03/Enfoca-1.png
ORGANIZER;CN="Irma Mier":MAILTO:infoirmamier@gmail.com
END:VEVENT
BEGIN:VEVENT
DTSTART;TZID=Europe/Madrid:20260630T134500
DTEND;TZID=Europe/Madrid:20260630T144500
DTSTAMP:20260422T182355
CREATED:20250927T091050Z
LAST-MODIFIED:20251020T164504Z
UID:10001062-1782827100-1782830700@irmamier.com
SUMMARY:MEDITACIÓN Y MÁS. Bilbao
DESCRIPTION:En Gyrotonic Bilbao. Los martes al medio día. \nClases semanales de meditación y autoconocimiento para el bienestar y el desarrollo personal. \n 
URL:https://irmamier.com/proxima-actividad/meditacion-y-mas-bilbao/2026-06-30/
CATEGORIES:Meditación en Bilbao
ATTACH;FMTTYPE=image/jpeg:https://irmamier.com/wp-content/uploads/2017/03/emakumea-meditatzen.jpg
ORGANIZER;CN="Irma Mier":MAILTO:infoirmamier@gmail.com
END:VEVENT
BEGIN:VEVENT
DTSTART;TZID=Europe/Madrid:20260630T193000
DTEND;TZID=Europe/Madrid:20260630T203000
DTSTAMP:20260422T182355
CREATED:20250927T084917Z
LAST-MODIFIED:20250927T085943Z
UID:10000366-1782847800-1782851400@irmamier.com
SUMMARY:ENFOCA Y MAGNETIZA. OnLine. Semanal Martes de 19:30h a 20:30h.
DESCRIPTION:En tiempos convulsos y acelerados como los que estamos viviendo\, es crucial tomar autorresponsabilidad en el cuidado y bienestar propio\, para evitar ser manipulados y dejarse arrastrar por inercias y estados colectivos tóxicos. Mantenerte en tu eje de claridad mental\, discernimiento y equilibrio emocional\, para tomar las mejores decisiones y actuar en coherencia te ayuda a ti y contribuye al bienestar de tu entorno. Tu estado físico\, mental\, emocional y energético tiene un impacto directo en los seres que te rodean. Somos gotitas de agua del gran océano. ENFOCA Y MAGNETIZA es un espacio para mantener alta tu vibración y propiciar el despertar de la Conciencia. Por resonancia\, en grupo\, nos inspiramos y potenciamos mutuamente. Es sano para ti y es sano para todxs. Activamos el mejor potencial\, la mejor línea temporal individual y colectiva. Hace falta una masa crítica suficiente\, comprometida y constante para la evolución de la humanidad. ¿Te animas a participar?. \nPrecio mensual: 45€ hilean
URL:https://irmamier.com/proxima-actividad/enfoca-y-magnetiza-online-semanal-martes-de-1930h-a-2030h/2026-06-30/
CATEGORIES:Enfoca y Magnetiza Online
ATTACH;FMTTYPE=image/png:https://irmamier.com/wp-content/uploads/2022/03/Enfoca-1.png
ORGANIZER;CN="Irma Mier":MAILTO:infoirmamier@gmail.com
END:VEVENT
BEGIN:VEVENT
DTSTART;TZID=Europe/Madrid:20260706T100000
DTEND;TZID=Europe/Madrid:20260706T110000
DTSTAMP:20260422T182355
CREATED:20250927T083909Z
LAST-MODIFIED:20250927T090654Z
UID:10000105-1783332000-1783335600@irmamier.com
SUMMARY:ENFOCA Y MAGNETIZA. OnLine. Semanal. Lunes 10-11h.
DESCRIPTION:En tiempos convulsos y acelerados como los que estamos viviendo\, es crucial tomar autorresponsabilidad en el cuidado y bienestar propio\, para evitar ser manipulados y dejarse arrastrar por inercias y estados colectivos tóxicos. Mantenerte en tu eje de claridad mental\, discernimiento y equilibrio emocional\, para tomar las mejores decisiones y actuar en coherencia te ayuda a ti y contribuye al bienestar de tu entorno. Tu estado físico\, mental\, emocional y energético tiene un impacto directo en los seres que te rodean. Somos gotitas de agua del gran océano. ENFOCA Y MAGNETIZA es un espacio para mantener alta tu vibración y propiciar el despertar de la Conciencia. Por resonancia\, en grupo\, nos inspiramos y potenciamos mutuamente. Es sano para ti y es sano para todxs. Activamos el mejor potencial\, la mejor línea temporal individual y colectiva. Hace falta una masa crítica suficiente\, comprometida y constante para la evolución de la humanidad. ¿Te animas a participar? \nPrecio mensual: 45€ hilean
URL:https://irmamier.com/proxima-actividad/enfoca-y-magnetiza-online-3/2026-07-06/
CATEGORIES:Enfoca y Magnetiza Online
ATTACH;FMTTYPE=image/png:https://irmamier.com/wp-content/uploads/2022/03/Enfoca-1.png
ORGANIZER;CN="Irma Mier":MAILTO:infoirmamier@gmail.com
END:VEVENT
BEGIN:VEVENT
DTSTART;TZID=Europe/Madrid:20260707T134500
DTEND;TZID=Europe/Madrid:20260707T144500
DTSTAMP:20260422T182355
CREATED:20250927T091050Z
LAST-MODIFIED:20251020T164504Z
UID:10001063-1783431900-1783435500@irmamier.com
SUMMARY:MEDITACIÓN Y MÁS. Bilbao
DESCRIPTION:En Gyrotonic Bilbao. Los martes al medio día. \nClases semanales de meditación y autoconocimiento para el bienestar y el desarrollo personal. \n 
URL:https://irmamier.com/proxima-actividad/meditacion-y-mas-bilbao/2026-07-07/
CATEGORIES:Meditación en Bilbao
ATTACH;FMTTYPE=image/jpeg:https://irmamier.com/wp-content/uploads/2017/03/emakumea-meditatzen.jpg
ORGANIZER;CN="Irma Mier":MAILTO:infoirmamier@gmail.com
END:VEVENT
BEGIN:VEVENT
DTSTART;TZID=Europe/Madrid:20260707T193000
DTEND;TZID=Europe/Madrid:20260707T203000
DTSTAMP:20260422T182355
CREATED:20250927T084917Z
LAST-MODIFIED:20250927T085943Z
UID:10000367-1783452600-1783456200@irmamier.com
SUMMARY:ENFOCA Y MAGNETIZA. OnLine. Semanal Martes de 19:30h a 20:30h.
DESCRIPTION:En tiempos convulsos y acelerados como los que estamos viviendo\, es crucial tomar autorresponsabilidad en el cuidado y bienestar propio\, para evitar ser manipulados y dejarse arrastrar por inercias y estados colectivos tóxicos. Mantenerte en tu eje de claridad mental\, discernimiento y equilibrio emocional\, para tomar las mejores decisiones y actuar en coherencia te ayuda a ti y contribuye al bienestar de tu entorno. Tu estado físico\, mental\, emocional y energético tiene un impacto directo en los seres que te rodean. Somos gotitas de agua del gran océano. ENFOCA Y MAGNETIZA es un espacio para mantener alta tu vibración y propiciar el despertar de la Conciencia. Por resonancia\, en grupo\, nos inspiramos y potenciamos mutuamente. Es sano para ti y es sano para todxs. Activamos el mejor potencial\, la mejor línea temporal individual y colectiva. Hace falta una masa crítica suficiente\, comprometida y constante para la evolución de la humanidad. ¿Te animas a participar?. \nPrecio mensual: 45€ hilean
URL:https://irmamier.com/proxima-actividad/enfoca-y-magnetiza-online-semanal-martes-de-1930h-a-2030h/2026-07-07/
CATEGORIES:Enfoca y Magnetiza Online
ATTACH;FMTTYPE=image/png:https://irmamier.com/wp-content/uploads/2022/03/Enfoca-1.png
ORGANIZER;CN="Irma Mier":MAILTO:infoirmamier@gmail.com
END:VEVENT
BEGIN:VEVENT
DTSTART;TZID=Europe/Madrid:20260713T100000
DTEND;TZID=Europe/Madrid:20260713T110000
DTSTAMP:20260422T182355
CREATED:20250927T083909Z
LAST-MODIFIED:20250927T090654Z
UID:10000106-1783936800-1783940400@irmamier.com
SUMMARY:ENFOCA Y MAGNETIZA. OnLine. Semanal. Lunes 10-11h.
DESCRIPTION:En tiempos convulsos y acelerados como los que estamos viviendo\, es crucial tomar autorresponsabilidad en el cuidado y bienestar propio\, para evitar ser manipulados y dejarse arrastrar por inercias y estados colectivos tóxicos. Mantenerte en tu eje de claridad mental\, discernimiento y equilibrio emocional\, para tomar las mejores decisiones y actuar en coherencia te ayuda a ti y contribuye al bienestar de tu entorno. Tu estado físico\, mental\, emocional y energético tiene un impacto directo en los seres que te rodean. Somos gotitas de agua del gran océano. ENFOCA Y MAGNETIZA es un espacio para mantener alta tu vibración y propiciar el despertar de la Conciencia. Por resonancia\, en grupo\, nos inspiramos y potenciamos mutuamente. Es sano para ti y es sano para todxs. Activamos el mejor potencial\, la mejor línea temporal individual y colectiva. Hace falta una masa crítica suficiente\, comprometida y constante para la evolución de la humanidad. ¿Te animas a participar? \nPrecio mensual: 45€ hilean
URL:https://irmamier.com/proxima-actividad/enfoca-y-magnetiza-online-3/2026-07-13/
CATEGORIES:Enfoca y Magnetiza Online
ATTACH;FMTTYPE=image/png:https://irmamier.com/wp-content/uploads/2022/03/Enfoca-1.png
ORGANIZER;CN="Irma Mier":MAILTO:infoirmamier@gmail.com
END:VEVENT
BEGIN:VEVENT
DTSTART;TZID=Europe/Madrid:20260714T134500
DTEND;TZID=Europe/Madrid:20260714T144500
DTSTAMP:20260422T182355
CREATED:20250927T091050Z
LAST-MODIFIED:20251020T164504Z
UID:10001064-1784036700-1784040300@irmamier.com
SUMMARY:MEDITACIÓN Y MÁS. Bilbao
DESCRIPTION:En Gyrotonic Bilbao. Los martes al medio día. \nClases semanales de meditación y autoconocimiento para el bienestar y el desarrollo personal. \n 
URL:https://irmamier.com/proxima-actividad/meditacion-y-mas-bilbao/2026-07-14/
CATEGORIES:Meditación en Bilbao
ATTACH;FMTTYPE=image/jpeg:https://irmamier.com/wp-content/uploads/2017/03/emakumea-meditatzen.jpg
ORGANIZER;CN="Irma Mier":MAILTO:infoirmamier@gmail.com
END:VEVENT
BEGIN:VEVENT
DTSTART;TZID=Europe/Madrid:20260714T193000
DTEND;TZID=Europe/Madrid:20260714T203000
DTSTAMP:20260422T182355
CREATED:20250927T084917Z
LAST-MODIFIED:20250927T085943Z
UID:10000368-1784057400-1784061000@irmamier.com
SUMMARY:ENFOCA Y MAGNETIZA. OnLine. Semanal Martes de 19:30h a 20:30h.
DESCRIPTION:En tiempos convulsos y acelerados como los que estamos viviendo\, es crucial tomar autorresponsabilidad en el cuidado y bienestar propio\, para evitar ser manipulados y dejarse arrastrar por inercias y estados colectivos tóxicos. Mantenerte en tu eje de claridad mental\, discernimiento y equilibrio emocional\, para tomar las mejores decisiones y actuar en coherencia te ayuda a ti y contribuye al bienestar de tu entorno. Tu estado físico\, mental\, emocional y energético tiene un impacto directo en los seres que te rodean. Somos gotitas de agua del gran océano. ENFOCA Y MAGNETIZA es un espacio para mantener alta tu vibración y propiciar el despertar de la Conciencia. Por resonancia\, en grupo\, nos inspiramos y potenciamos mutuamente. Es sano para ti y es sano para todxs. Activamos el mejor potencial\, la mejor línea temporal individual y colectiva. Hace falta una masa crítica suficiente\, comprometida y constante para la evolución de la humanidad. ¿Te animas a participar?. \nPrecio mensual: 45€ hilean
URL:https://irmamier.com/proxima-actividad/enfoca-y-magnetiza-online-semanal-martes-de-1930h-a-2030h/2026-07-14/
CATEGORIES:Enfoca y Magnetiza Online
ATTACH;FMTTYPE=image/png:https://irmamier.com/wp-content/uploads/2022/03/Enfoca-1.png
ORGANIZER;CN="Irma Mier":MAILTO:infoirmamier@gmail.com
END:VEVENT
BEGIN:VEVENT
DTSTART;TZID=Europe/Madrid:20260720T100000
DTEND;TZID=Europe/Madrid:20260720T110000
DTSTAMP:20260422T182355
CREATED:20250927T083909Z
LAST-MODIFIED:20250927T090654Z
UID:10000107-1784541600-1784545200@irmamier.com
SUMMARY:ENFOCA Y MAGNETIZA. OnLine. Semanal. Lunes 10-11h.
DESCRIPTION:En tiempos convulsos y acelerados como los que estamos viviendo\, es crucial tomar autorresponsabilidad en el cuidado y bienestar propio\, para evitar ser manipulados y dejarse arrastrar por inercias y estados colectivos tóxicos. Mantenerte en tu eje de claridad mental\, discernimiento y equilibrio emocional\, para tomar las mejores decisiones y actuar en coherencia te ayuda a ti y contribuye al bienestar de tu entorno. Tu estado físico\, mental\, emocional y energético tiene un impacto directo en los seres que te rodean. Somos gotitas de agua del gran océano. ENFOCA Y MAGNETIZA es un espacio para mantener alta tu vibración y propiciar el despertar de la Conciencia. Por resonancia\, en grupo\, nos inspiramos y potenciamos mutuamente. Es sano para ti y es sano para todxs. Activamos el mejor potencial\, la mejor línea temporal individual y colectiva. Hace falta una masa crítica suficiente\, comprometida y constante para la evolución de la humanidad. ¿Te animas a participar? \nPrecio mensual: 45€ hilean
URL:https://irmamier.com/proxima-actividad/enfoca-y-magnetiza-online-3/2026-07-20/
CATEGORIES:Enfoca y Magnetiza Online
ATTACH;FMTTYPE=image/png:https://irmamier.com/wp-content/uploads/2022/03/Enfoca-1.png
ORGANIZER;CN="Irma Mier":MAILTO:infoirmamier@gmail.com
END:VEVENT
BEGIN:VEVENT
DTSTART;TZID=Europe/Madrid:20260721T134500
DTEND;TZID=Europe/Madrid:20260721T144500
DTSTAMP:20260422T182355
CREATED:20250927T091050Z
LAST-MODIFIED:20251020T164504Z
UID:10001065-1784641500-1784645100@irmamier.com
SUMMARY:MEDITACIÓN Y MÁS. Bilbao
DESCRIPTION:En Gyrotonic Bilbao. Los martes al medio día. \nClases semanales de meditación y autoconocimiento para el bienestar y el desarrollo personal. \n 
URL:https://irmamier.com/proxima-actividad/meditacion-y-mas-bilbao/2026-07-21/
CATEGORIES:Meditación en Bilbao
ATTACH;FMTTYPE=image/jpeg:https://irmamier.com/wp-content/uploads/2017/03/emakumea-meditatzen.jpg
ORGANIZER;CN="Irma Mier":MAILTO:infoirmamier@gmail.com
END:VEVENT
BEGIN:VEVENT
DTSTART;TZID=Europe/Madrid:20260721T193000
DTEND;TZID=Europe/Madrid:20260721T203000
DTSTAMP:20260422T182355
CREATED:20250927T084917Z
LAST-MODIFIED:20250927T085943Z
UID:10000369-1784662200-1784665800@irmamier.com
SUMMARY:ENFOCA Y MAGNETIZA. OnLine. Semanal Martes de 19:30h a 20:30h.
DESCRIPTION:En tiempos convulsos y acelerados como los que estamos viviendo\, es crucial tomar autorresponsabilidad en el cuidado y bienestar propio\, para evitar ser manipulados y dejarse arrastrar por inercias y estados colectivos tóxicos. Mantenerte en tu eje de claridad mental\, discernimiento y equilibrio emocional\, para tomar las mejores decisiones y actuar en coherencia te ayuda a ti y contribuye al bienestar de tu entorno. Tu estado físico\, mental\, emocional y energético tiene un impacto directo en los seres que te rodean. Somos gotitas de agua del gran océano. ENFOCA Y MAGNETIZA es un espacio para mantener alta tu vibración y propiciar el despertar de la Conciencia. Por resonancia\, en grupo\, nos inspiramos y potenciamos mutuamente. Es sano para ti y es sano para todxs. Activamos el mejor potencial\, la mejor línea temporal individual y colectiva. Hace falta una masa crítica suficiente\, comprometida y constante para la evolución de la humanidad. ¿Te animas a participar?. \nPrecio mensual: 45€ hilean
URL:https://irmamier.com/proxima-actividad/enfoca-y-magnetiza-online-semanal-martes-de-1930h-a-2030h/2026-07-21/
CATEGORIES:Enfoca y Magnetiza Online
ATTACH;FMTTYPE=image/png:https://irmamier.com/wp-content/uploads/2022/03/Enfoca-1.png
ORGANIZER;CN="Irma Mier":MAILTO:infoirmamier@gmail.com
END:VEVENT
BEGIN:VEVENT
DTSTART;TZID=Europe/Madrid:20260727T100000
DTEND;TZID=Europe/Madrid:20260727T110000
DTSTAMP:20260422T182355
CREATED:20250927T083909Z
LAST-MODIFIED:20250927T090654Z
UID:10000108-1785146400-1785150000@irmamier.com
SUMMARY:ENFOCA Y MAGNETIZA. OnLine. Semanal. Lunes 10-11h.
DESCRIPTION:En tiempos convulsos y acelerados como los que estamos viviendo\, es crucial tomar autorresponsabilidad en el cuidado y bienestar propio\, para evitar ser manipulados y dejarse arrastrar por inercias y estados colectivos tóxicos. Mantenerte en tu eje de claridad mental\, discernimiento y equilibrio emocional\, para tomar las mejores decisiones y actuar en coherencia te ayuda a ti y contribuye al bienestar de tu entorno. Tu estado físico\, mental\, emocional y energético tiene un impacto directo en los seres que te rodean. Somos gotitas de agua del gran océano. ENFOCA Y MAGNETIZA es un espacio para mantener alta tu vibración y propiciar el despertar de la Conciencia. Por resonancia\, en grupo\, nos inspiramos y potenciamos mutuamente. Es sano para ti y es sano para todxs. Activamos el mejor potencial\, la mejor línea temporal individual y colectiva. Hace falta una masa crítica suficiente\, comprometida y constante para la evolución de la humanidad. ¿Te animas a participar? \nPrecio mensual: 45€ hilean
URL:https://irmamier.com/proxima-actividad/enfoca-y-magnetiza-online-3/2026-07-27/
CATEGORIES:Enfoca y Magnetiza Online
ATTACH;FMTTYPE=image/png:https://irmamier.com/wp-content/uploads/2022/03/Enfoca-1.png
ORGANIZER;CN="Irma Mier":MAILTO:infoirmamier@gmail.com
END:VEVENT
BEGIN:VEVENT
DTSTART;TZID=Europe/Madrid:20260728T134500
DTEND;TZID=Europe/Madrid:20260728T144500
DTSTAMP:20260422T182355
CREATED:20250927T091050Z
LAST-MODIFIED:20251020T164504Z
UID:10001066-1785246300-1785249900@irmamier.com
SUMMARY:MEDITACIÓN Y MÁS. Bilbao
DESCRIPTION:En Gyrotonic Bilbao. Los martes al medio día. \nClases semanales de meditación y autoconocimiento para el bienestar y el desarrollo personal. \n 
URL:https://irmamier.com/proxima-actividad/meditacion-y-mas-bilbao/2026-07-28/
CATEGORIES:Meditación en Bilbao
ATTACH;FMTTYPE=image/jpeg:https://irmamier.com/wp-content/uploads/2017/03/emakumea-meditatzen.jpg
ORGANIZER;CN="Irma Mier":MAILTO:infoirmamier@gmail.com
END:VEVENT
BEGIN:VEVENT
DTSTART;TZID=Europe/Madrid:20260728T193000
DTEND;TZID=Europe/Madrid:20260728T203000
DTSTAMP:20260422T182355
CREATED:20250927T084917Z
LAST-MODIFIED:20250927T085943Z
UID:10000370-1785267000-1785270600@irmamier.com
SUMMARY:ENFOCA Y MAGNETIZA. OnLine. Semanal Martes de 19:30h a 20:30h.
DESCRIPTION:En tiempos convulsos y acelerados como los que estamos viviendo\, es crucial tomar autorresponsabilidad en el cuidado y bienestar propio\, para evitar ser manipulados y dejarse arrastrar por inercias y estados colectivos tóxicos. Mantenerte en tu eje de claridad mental\, discernimiento y equilibrio emocional\, para tomar las mejores decisiones y actuar en coherencia te ayuda a ti y contribuye al bienestar de tu entorno. Tu estado físico\, mental\, emocional y energético tiene un impacto directo en los seres que te rodean. Somos gotitas de agua del gran océano. ENFOCA Y MAGNETIZA es un espacio para mantener alta tu vibración y propiciar el despertar de la Conciencia. Por resonancia\, en grupo\, nos inspiramos y potenciamos mutuamente. Es sano para ti y es sano para todxs. Activamos el mejor potencial\, la mejor línea temporal individual y colectiva. Hace falta una masa crítica suficiente\, comprometida y constante para la evolución de la humanidad. ¿Te animas a participar?. \nPrecio mensual: 45€ hilean
URL:https://irmamier.com/proxima-actividad/enfoca-y-magnetiza-online-semanal-martes-de-1930h-a-2030h/2026-07-28/
CATEGORIES:Enfoca y Magnetiza Online
ATTACH;FMTTYPE=image/png:https://irmamier.com/wp-content/uploads/2022/03/Enfoca-1.png
ORGANIZER;CN="Irma Mier":MAILTO:infoirmamier@gmail.com
END:VEVENT
END:VCALENDAR