BEGIN:VCALENDAR
VERSION:2.0
PRODID:-//Irma Mier .:. Bienestar, Salud y Desarrollo Personal - ECPv6.15.18//NONSGML v1.0//EN
CALSCALE:GREGORIAN
METHOD:PUBLISH
X-ORIGINAL-URL:https://irmamier.com
X-WR-CALDESC:Eventos para Irma Mier .:. Bienestar, Salud y Desarrollo Personal
REFRESH-INTERVAL;VALUE=DURATION:PT1H
X-Robots-Tag:noindex
X-PUBLISHED-TTL:PT1H
BEGIN:VTIMEZONE
TZID:Europe/Madrid
BEGIN:DAYLIGHT
TZOFFSETFROM:+0100
TZOFFSETTO:+0200
TZNAME:CEST
DTSTART:20240331T010000
END:DAYLIGHT
BEGIN:STANDARD
TZOFFSETFROM:+0200
TZOFFSETTO:+0100
TZNAME:CET
DTSTART:20241027T010000
END:STANDARD
BEGIN:DAYLIGHT
TZOFFSETFROM:+0100
TZOFFSETTO:+0200
TZNAME:CEST
DTSTART:20250330T010000
END:DAYLIGHT
BEGIN:STANDARD
TZOFFSETFROM:+0200
TZOFFSETTO:+0100
TZNAME:CET
DTSTART:20251026T010000
END:STANDARD
BEGIN:DAYLIGHT
TZOFFSETFROM:+0100
TZOFFSETTO:+0200
TZNAME:CEST
DTSTART:20260329T010000
END:DAYLIGHT
BEGIN:STANDARD
TZOFFSETFROM:+0200
TZOFFSETTO:+0100
TZNAME:CET
DTSTART:20261025T010000
END:STANDARD
END:VTIMEZONE
BEGIN:VEVENT
DTSTART;TZID=Europe/Madrid:20250719T100000
DTEND;TZID=Europe/Madrid:20250719T180000
DTSTAMP:20260420T022748
CREATED:20250328T124654Z
LAST-MODIFIED:20250328T124958Z
UID:10000043-1752919200-1752948000@irmamier.com
SUMMARY:Curso Reiki 2º Nivel en Vitoria-Gasteiz
DESCRIPTION:Como practicante\, estudiosa y terapeuta Reiki durante más de veinticinco años\, y maestra Reiki desde 2011\, tengo el placer de compartir contigo la enseñanza de este sencillo y profundo método de sanación natural de origen japonés\, que mediante la imposición de manos y la correcta actitud\, estoy segura te aportará bienestar\, salud\, armonía y desarrollo consciente a ti y a tu entorno. \nLa formación de Reiki se divide en tres niveles o cursos progresivos pero independientes. \nEn esta formación profundizamos en el aprendizaje de técnicas de sanación energética con simbología sagrada y en el concepto de Reiki como camino de autoconocimiento\, autosanación y despertar de la conciencia. Trabajamos el campo mental y emocional\, la historia personal\, así como las sanaciones a distancia\, en el espacio y en el tiempo (pasado – presente – futuro). \nPara realizar este Segundo Nivel hace falta haber practicado Primer Nivel de Reiki básico de manera regular\, así como tener bien integrados los cinco principios Reiki. \nSe reciben las sintonizaciones para ser canal Reiki de Segundo Nivel y poder utilizar los símbolos Reiki\, haciendo que la energía sea más intensa\, más concentrada y más precisa. \nEsta formación presencial intensiva repartida en tres tardes\, tres mañanas o un fin de semana implica trabajo personal posterior supervisado\, que puede durar entre un mes y 6 meses\, en función de la dedicación de cada persona. \n• Fechas: 19 y 20 de Julio\n• Sábado\, de 10:00h a 18:00h\n• Domingo\, de 10:00h a 14:00h\n• Inversión: 220€ (21% IVA incl.)\n• Imparte: Irma Mier \n♡ Atención personalizada\n♡ Se entrega manual de práctica\n♡ Apoyo y seguimiento de las prácticas mediante grupo de WhatsApp \nReserva tu plaza en el 645005805 Tel\, WhatsApp o Telegram (Irma) \n+ Info y programa\nhttps://irmamier.com/formacion-reiki/
URL:https://irmamier.com/proxima-actividad/curso-reiki-2o-nivel-en-vitoria-gasteiz-3/
CATEGORIES:Curso de Reiki 2
ATTACH;FMTTYPE=image/png:https://irmamier.com/wp-content/uploads/2023/08/Reiki.png
ORGANIZER;CN="Irma Mier":MAILTO:infoirmamier@gmail.com
END:VEVENT
BEGIN:VEVENT
DTSTART;TZID=Europe/Madrid:20250720T100000
DTEND;TZID=Europe/Madrid:20250720T140000
DTSTAMP:20260420T022748
CREATED:20240905T174637Z
LAST-MODIFIED:20250328T124300Z
UID:10000044-1753005600-1753020000@irmamier.com
SUMMARY:Curso Reiki 2º Nivel en Vitoria-Gasteiz
DESCRIPTION:Como practicante\, estudiosa y terapeuta Reiki durante más de veinticinco años\, y maestra Reiki desde 2011\, tengo el placer de compartir contigo la enseñanza de este sencillo y profundo método de sanación natural de origen japonés\, que mediante la imposición de manos y la correcta actitud\, estoy segura te aportará bienestar\, salud\, armonía y desarrollo consciente a ti y a tu entorno. \nLa formación de Reiki se divide en tres niveles o cursos progresivos pero independientes. \nEn esta formación profundizamos en el aprendizaje de técnicas de sanación energética con simbología sagrada y en el concepto de Reiki como camino de autoconocimiento\, autosanación y despertar de la conciencia. Trabajamos el campo mental y emocional\, la historia personal\, así como las sanaciones a distancia\, en el espacio y en el tiempo (pasado – presente – futuro). \nPara realizar este Segundo Nivel hace falta haber practicado Primer Nivel de Reiki básico de manera regular\, así como tener bien integrados los cinco principios Reiki. \nSe reciben las sintonizaciones para ser canal Reiki de Segundo Nivel y poder utilizar los símbolos Reiki\, haciendo que la energía sea más intensa\, más concentrada y más precisa. \nEsta formación presencial intensiva repartida en tres tardes\, tres mañanas o un fin de semana implica trabajo personal posterior supervisado\, que puede durar entre un mes y 6 meses\, en función de la dedicación de cada persona. \n• Fechas: 19 y 20 de Julio\n• Sábado\, de 10:00h a 18:00h\n• Domingo\, de 10:00h a 14:00h\n• Inversión: 220€ (21% IVA incl.)\n• Imparte: Irma Mier \n♡ Atención personalizada\n♡ Se entrega manual de práctica\n♡ Apoyo y seguimiento de las prácticas mediante grupo de WhatsApp \nReserva tu plaza en el 645005805 Tel\, WhatsApp o Telegram (Irma) \n+ Info y programa\nhttps://irmamier.com/formacion-reiki/
URL:https://irmamier.com/proxima-actividad/curso-reiki-2o-nivel-en-vitoria-gasteiz/2025-07-20/
CATEGORIES:Curso de Reiki 2
ATTACH;FMTTYPE=image/png:https://irmamier.com/wp-content/uploads/2023/08/Reiki.png
ORGANIZER;CN="Irma Mier":MAILTO:infoirmamier@gmail.com
END:VEVENT
END:VCALENDAR