BEGIN:VCALENDAR
VERSION:2.0
PRODID:-//Irma Mier .:. Bienestar, Salud y Desarrollo Personal - ECPv6.15.20//NONSGML v1.0//EN
CALSCALE:GREGORIAN
METHOD:PUBLISH
X-ORIGINAL-URL:https://irmamier.com
X-WR-CALDESC:Eventos para Irma Mier .:. Bienestar, Salud y Desarrollo Personal
REFRESH-INTERVAL;VALUE=DURATION:PT1H
X-Robots-Tag:noindex
X-PUBLISHED-TTL:PT1H
BEGIN:VTIMEZONE
TZID:Europe/Paris
BEGIN:DAYLIGHT
TZOFFSETFROM:+0100
TZOFFSETTO:+0200
TZNAME:CEST
DTSTART:20230326T010000
END:DAYLIGHT
BEGIN:STANDARD
TZOFFSETFROM:+0200
TZOFFSETTO:+0100
TZNAME:CET
DTSTART:20231029T010000
END:STANDARD
BEGIN:DAYLIGHT
TZOFFSETFROM:+0100
TZOFFSETTO:+0200
TZNAME:CEST
DTSTART:20240331T010000
END:DAYLIGHT
BEGIN:STANDARD
TZOFFSETFROM:+0200
TZOFFSETTO:+0100
TZNAME:CET
DTSTART:20241027T010000
END:STANDARD
BEGIN:DAYLIGHT
TZOFFSETFROM:+0100
TZOFFSETTO:+0200
TZNAME:CEST
DTSTART:20250330T010000
END:DAYLIGHT
BEGIN:STANDARD
TZOFFSETFROM:+0200
TZOFFSETTO:+0100
TZNAME:CET
DTSTART:20251026T010000
END:STANDARD
END:VTIMEZONE
BEGIN:VEVENT
DTSTART;TZID=Europe/Paris:20240108T100000
DTEND;TZID=Europe/Paris:20240108T110000
DTSTAMP:20260423T174342
CREATED:20231226T114505Z
LAST-MODIFIED:20231226T180018Z
UID:10000009-1704708000-1704711600@irmamier.com
SUMMARY:Enfoca y Magnetiza Online am
DESCRIPTION:Te invito a «ENFOCAR-T» para vivir tu realidad y deseos personales en sintonía con lo que la Vida nos propone en estos tiempos. \nTomar conciencia de cómo estás aquí y ahora\, para darte cuenta de cómo quieres estar y así identificar los cambios que necesitas hacer en el presente para sentirte mejor. \n\nRepasar tus hábitos físicos de sueño\, alimentación y movimiento corporal.\nAtender tus necesidades emocionales y afectivas.\nLimpiar y cultivar tu mente y tu espíritu.\nMantener alta tu vibración.\n\nDarte cuenta de aquello que te frena o contrae\, y de lo que te alienta y te expande. \n\n\n\n\n\n\n\n\nComprometerte contigo a tratarte con amor\, cuidado y respeto\, y empezar ya\, paso a paso\, mediante pequeños gestos y rutinas cotidianas y agradables que comenzarás a disfrutar desde el primer momento y seguirán dando su fruto y nuevas semillas más adelante. \nTalleres mensuales. De Octubre a Junio. Todos los lunes a las 10:00h \n¿Qué necesitas? Conexión a internet para poder utilizar Jitsi Meet. No hace falta instalar ningún programa.
URL:https://irmamier.com/proxima-actividad/enfoca-y-magnetiza-online-am/
CATEGORIES:Enfoca y Magnetiza Online
ATTACH;FMTTYPE=image/png:https://irmamier.com/wp-content/uploads/2022/03/Enfoca-1.png
END:VEVENT
END:VCALENDAR