BEGIN:VCALENDAR
VERSION:2.0
PRODID:-//Irma Mier .:. Bienestar, Salud y Desarrollo Personal - ECPv6.15.18//NONSGML v1.0//EN
CALSCALE:GREGORIAN
METHOD:PUBLISH
X-WR-CALNAME:Irma Mier .:. Bienestar, Salud y Desarrollo Personal
X-ORIGINAL-URL:https://irmamier.com
X-WR-CALDESC:Eventos para Irma Mier .:. Bienestar, Salud y Desarrollo Personal
REFRESH-INTERVAL;VALUE=DURATION:PT1H
X-Robots-Tag:noindex
X-PUBLISHED-TTL:PT1H
BEGIN:VTIMEZONE
TZID:Europe/Madrid
BEGIN:DAYLIGHT
TZOFFSETFROM:+0100
TZOFFSETTO:+0200
TZNAME:CEST
DTSTART:20230326T010000
END:DAYLIGHT
BEGIN:STANDARD
TZOFFSETFROM:+0200
TZOFFSETTO:+0100
TZNAME:CET
DTSTART:20231029T010000
END:STANDARD
BEGIN:DAYLIGHT
TZOFFSETFROM:+0100
TZOFFSETTO:+0200
TZNAME:CEST
DTSTART:20240331T010000
END:DAYLIGHT
BEGIN:STANDARD
TZOFFSETFROM:+0200
TZOFFSETTO:+0100
TZNAME:CET
DTSTART:20241027T010000
END:STANDARD
BEGIN:DAYLIGHT
TZOFFSETFROM:+0100
TZOFFSETTO:+0200
TZNAME:CEST
DTSTART:20250330T010000
END:DAYLIGHT
BEGIN:STANDARD
TZOFFSETFROM:+0200
TZOFFSETTO:+0100
TZNAME:CET
DTSTART:20251026T010000
END:STANDARD
BEGIN:DAYLIGHT
TZOFFSETFROM:+0100
TZOFFSETTO:+0200
TZNAME:CEST
DTSTART:20260329T010000
END:DAYLIGHT
BEGIN:STANDARD
TZOFFSETFROM:+0200
TZOFFSETTO:+0100
TZNAME:CET
DTSTART:20261025T010000
END:STANDARD
BEGIN:DAYLIGHT
TZOFFSETFROM:+0100
TZOFFSETTO:+0200
TZNAME:CEST
DTSTART:20270328T010000
END:DAYLIGHT
BEGIN:STANDARD
TZOFFSETFROM:+0200
TZOFFSETTO:+0100
TZNAME:CET
DTSTART:20271031T010000
END:STANDARD
END:VTIMEZONE
BEGIN:VEVENT
DTSTART;TZID=Europe/Madrid:20260310T134500
DTEND;TZID=Europe/Madrid:20260310T144500
DTSTAMP:20260420T122637
CREATED:20250927T091050Z
LAST-MODIFIED:20251020T164504Z
UID:10001046-1773150300-1773153900@irmamier.com
SUMMARY:MEDITACIÓN Y MÁS. Bilbao
DESCRIPTION:En Gyrotonic Bilbao. Los martes al medio día. \nClases semanales de meditación y autoconocimiento para el bienestar y el desarrollo personal. \n 
URL:https://irmamier.com/proxima-actividad/meditacion-y-mas-bilbao/2026-03-10/
CATEGORIES:Meditación en Bilbao
ATTACH;FMTTYPE=image/jpeg:https://irmamier.com/wp-content/uploads/2017/03/emakumea-meditatzen.jpg
ORGANIZER;CN="Irma Mier":MAILTO:infoirmamier@gmail.com
END:VEVENT
BEGIN:VEVENT
DTSTART;TZID=Europe/Madrid:20260303T134500
DTEND;TZID=Europe/Madrid:20260303T144500
DTSTAMP:20260420T122637
CREATED:20250927T091050Z
LAST-MODIFIED:20251020T164504Z
UID:10001045-1772545500-1772549100@irmamier.com
SUMMARY:MEDITACIÓN Y MÁS. Bilbao
DESCRIPTION:En Gyrotonic Bilbao. Los martes al medio día. \nClases semanales de meditación y autoconocimiento para el bienestar y el desarrollo personal. \n 
URL:https://irmamier.com/proxima-actividad/meditacion-y-mas-bilbao/2026-03-03/
CATEGORIES:Meditación en Bilbao
ATTACH;FMTTYPE=image/jpeg:https://irmamier.com/wp-content/uploads/2017/03/emakumea-meditatzen.jpg
ORGANIZER;CN="Irma Mier":MAILTO:infoirmamier@gmail.com
END:VEVENT
BEGIN:VEVENT
DTSTART;TZID=Europe/Madrid:20260224T134500
DTEND;TZID=Europe/Madrid:20260224T144500
DTSTAMP:20260420T122637
CREATED:20250927T091050Z
LAST-MODIFIED:20251020T164504Z
UID:10001044-1771940700-1771944300@irmamier.com
SUMMARY:MEDITACIÓN Y MÁS. Bilbao
DESCRIPTION:En Gyrotonic Bilbao. Los martes al medio día. \nClases semanales de meditación y autoconocimiento para el bienestar y el desarrollo personal. \n 
URL:https://irmamier.com/proxima-actividad/meditacion-y-mas-bilbao/2026-02-24/
CATEGORIES:Meditación en Bilbao
ATTACH;FMTTYPE=image/jpeg:https://irmamier.com/wp-content/uploads/2017/03/emakumea-meditatzen.jpg
ORGANIZER;CN="Irma Mier":MAILTO:infoirmamier@gmail.com
END:VEVENT
BEGIN:VEVENT
DTSTART;TZID=Europe/Madrid:20260217T134500
DTEND;TZID=Europe/Madrid:20260217T144500
DTSTAMP:20260420T122637
CREATED:20250927T091050Z
LAST-MODIFIED:20251020T164504Z
UID:10001043-1771335900-1771339500@irmamier.com
SUMMARY:MEDITACIÓN Y MÁS. Bilbao
DESCRIPTION:En Gyrotonic Bilbao. Los martes al medio día. \nClases semanales de meditación y autoconocimiento para el bienestar y el desarrollo personal. \n 
URL:https://irmamier.com/proxima-actividad/meditacion-y-mas-bilbao/2026-02-17/
CATEGORIES:Meditación en Bilbao
ATTACH;FMTTYPE=image/jpeg:https://irmamier.com/wp-content/uploads/2017/03/emakumea-meditatzen.jpg
ORGANIZER;CN="Irma Mier":MAILTO:infoirmamier@gmail.com
END:VEVENT
BEGIN:VEVENT
DTSTART;TZID=Europe/Madrid:20260210T134500
DTEND;TZID=Europe/Madrid:20260210T144500
DTSTAMP:20260420T122637
CREATED:20250927T091050Z
LAST-MODIFIED:20251020T164504Z
UID:10001042-1770731100-1770734700@irmamier.com
SUMMARY:MEDITACIÓN Y MÁS. Bilbao
DESCRIPTION:En Gyrotonic Bilbao. Los martes al medio día. \nClases semanales de meditación y autoconocimiento para el bienestar y el desarrollo personal. \n 
URL:https://irmamier.com/proxima-actividad/meditacion-y-mas-bilbao/2026-02-10/
CATEGORIES:Meditación en Bilbao
ATTACH;FMTTYPE=image/jpeg:https://irmamier.com/wp-content/uploads/2017/03/emakumea-meditatzen.jpg
ORGANIZER;CN="Irma Mier":MAILTO:infoirmamier@gmail.com
END:VEVENT
BEGIN:VEVENT
DTSTART;TZID=Europe/Madrid:20260203T134500
DTEND;TZID=Europe/Madrid:20260203T144500
DTSTAMP:20260420T122637
CREATED:20250927T091050Z
LAST-MODIFIED:20251020T164504Z
UID:10001041-1770126300-1770129900@irmamier.com
SUMMARY:MEDITACIÓN Y MÁS. Bilbao
DESCRIPTION:En Gyrotonic Bilbao. Los martes al medio día. \nClases semanales de meditación y autoconocimiento para el bienestar y el desarrollo personal. \n 
URL:https://irmamier.com/proxima-actividad/meditacion-y-mas-bilbao/2026-02-03/
CATEGORIES:Meditación en Bilbao
ATTACH;FMTTYPE=image/jpeg:https://irmamier.com/wp-content/uploads/2017/03/emakumea-meditatzen.jpg
ORGANIZER;CN="Irma Mier":MAILTO:infoirmamier@gmail.com
END:VEVENT
BEGIN:VEVENT
DTSTART;TZID=Europe/Madrid:20260127T134500
DTEND;TZID=Europe/Madrid:20260127T144500
DTSTAMP:20260420T122637
CREATED:20250927T091050Z
LAST-MODIFIED:20251020T164504Z
UID:10001040-1769521500-1769525100@irmamier.com
SUMMARY:MEDITACIÓN Y MÁS. Bilbao
DESCRIPTION:En Gyrotonic Bilbao. Los martes al medio día. \nClases semanales de meditación y autoconocimiento para el bienestar y el desarrollo personal. \n 
URL:https://irmamier.com/proxima-actividad/meditacion-y-mas-bilbao/2026-01-27/
CATEGORIES:Meditación en Bilbao
ATTACH;FMTTYPE=image/jpeg:https://irmamier.com/wp-content/uploads/2017/03/emakumea-meditatzen.jpg
ORGANIZER;CN="Irma Mier":MAILTO:infoirmamier@gmail.com
END:VEVENT
BEGIN:VEVENT
DTSTART;TZID=Europe/Madrid:20260120T134500
DTEND;TZID=Europe/Madrid:20260120T144500
DTSTAMP:20260420T122637
CREATED:20250927T091050Z
LAST-MODIFIED:20251020T164504Z
UID:10001039-1768916700-1768920300@irmamier.com
SUMMARY:MEDITACIÓN Y MÁS. Bilbao
DESCRIPTION:En Gyrotonic Bilbao. Los martes al medio día. \nClases semanales de meditación y autoconocimiento para el bienestar y el desarrollo personal. \n 
URL:https://irmamier.com/proxima-actividad/meditacion-y-mas-bilbao/2026-01-20/
CATEGORIES:Meditación en Bilbao
ATTACH;FMTTYPE=image/jpeg:https://irmamier.com/wp-content/uploads/2017/03/emakumea-meditatzen.jpg
ORGANIZER;CN="Irma Mier":MAILTO:infoirmamier@gmail.com
END:VEVENT
BEGIN:VEVENT
DTSTART;TZID=Europe/Madrid:20260113T134500
DTEND;TZID=Europe/Madrid:20260113T144500
DTSTAMP:20260420T122637
CREATED:20250927T091050Z
LAST-MODIFIED:20251020T164504Z
UID:10001038-1768311900-1768315500@irmamier.com
SUMMARY:MEDITACIÓN Y MÁS. Bilbao
DESCRIPTION:En Gyrotonic Bilbao. Los martes al medio día. \nClases semanales de meditación y autoconocimiento para el bienestar y el desarrollo personal. \n 
URL:https://irmamier.com/proxima-actividad/meditacion-y-mas-bilbao/2026-01-13/
CATEGORIES:Meditación en Bilbao
ATTACH;FMTTYPE=image/jpeg:https://irmamier.com/wp-content/uploads/2017/03/emakumea-meditatzen.jpg
ORGANIZER;CN="Irma Mier":MAILTO:infoirmamier@gmail.com
END:VEVENT
BEGIN:VEVENT
DTSTART;TZID=Europe/Madrid:20260106T134500
DTEND;TZID=Europe/Madrid:20260106T144500
DTSTAMP:20260420T122637
CREATED:20250927T091050Z
LAST-MODIFIED:20251020T164504Z
UID:10001037-1767707100-1767710700@irmamier.com
SUMMARY:MEDITACIÓN Y MÁS. Bilbao
DESCRIPTION:En Gyrotonic Bilbao. Los martes al medio día. \nClases semanales de meditación y autoconocimiento para el bienestar y el desarrollo personal. \n 
URL:https://irmamier.com/proxima-actividad/meditacion-y-mas-bilbao/2026-01-06/
CATEGORIES:Meditación en Bilbao
ATTACH;FMTTYPE=image/jpeg:https://irmamier.com/wp-content/uploads/2017/03/emakumea-meditatzen.jpg
ORGANIZER;CN="Irma Mier":MAILTO:infoirmamier@gmail.com
END:VEVENT
BEGIN:VEVENT
DTSTART;TZID=Europe/Madrid:20251230T134500
DTEND;TZID=Europe/Madrid:20251230T144500
DTSTAMP:20260420T122637
CREATED:20250927T091050Z
LAST-MODIFIED:20251020T164504Z
UID:10001036-1767102300-1767105900@irmamier.com
SUMMARY:MEDITACIÓN Y MÁS. Bilbao
DESCRIPTION:En Gyrotonic Bilbao. Los martes al medio día. \nClases semanales de meditación y autoconocimiento para el bienestar y el desarrollo personal. \n 
URL:https://irmamier.com/proxima-actividad/meditacion-y-mas-bilbao/2025-12-30/
CATEGORIES:Meditación en Bilbao
ATTACH;FMTTYPE=image/jpeg:https://irmamier.com/wp-content/uploads/2017/03/emakumea-meditatzen.jpg
ORGANIZER;CN="Irma Mier":MAILTO:infoirmamier@gmail.com
END:VEVENT
BEGIN:VEVENT
DTSTART;TZID=Europe/Madrid:20251223T134500
DTEND;TZID=Europe/Madrid:20251223T144500
DTSTAMP:20260420T122637
CREATED:20250927T091050Z
LAST-MODIFIED:20251020T164504Z
UID:10001035-1766497500-1766501100@irmamier.com
SUMMARY:MEDITACIÓN Y MÁS. Bilbao
DESCRIPTION:En Gyrotonic Bilbao. Los martes al medio día. \nClases semanales de meditación y autoconocimiento para el bienestar y el desarrollo personal. \n 
URL:https://irmamier.com/proxima-actividad/meditacion-y-mas-bilbao/2025-12-23/
CATEGORIES:Meditación en Bilbao
ATTACH;FMTTYPE=image/jpeg:https://irmamier.com/wp-content/uploads/2017/03/emakumea-meditatzen.jpg
ORGANIZER;CN="Irma Mier":MAILTO:infoirmamier@gmail.com
END:VEVENT
BEGIN:VEVENT
DTSTART;TZID=Europe/Madrid:20251216T134500
DTEND;TZID=Europe/Madrid:20251216T144500
DTSTAMP:20260420T122637
CREATED:20250927T091050Z
LAST-MODIFIED:20251020T164504Z
UID:10001034-1765892700-1765896300@irmamier.com
SUMMARY:MEDITACIÓN Y MÁS. Bilbao
DESCRIPTION:En Gyrotonic Bilbao. Los martes al medio día. \nClases semanales de meditación y autoconocimiento para el bienestar y el desarrollo personal. \n 
URL:https://irmamier.com/proxima-actividad/meditacion-y-mas-bilbao/2025-12-16/
CATEGORIES:Meditación en Bilbao
ATTACH;FMTTYPE=image/jpeg:https://irmamier.com/wp-content/uploads/2017/03/emakumea-meditatzen.jpg
ORGANIZER;CN="Irma Mier":MAILTO:infoirmamier@gmail.com
END:VEVENT
BEGIN:VEVENT
DTSTART;TZID=Europe/Madrid:20251209T134500
DTEND;TZID=Europe/Madrid:20251209T144500
DTSTAMP:20260420T122637
CREATED:20250927T091050Z
LAST-MODIFIED:20251020T164504Z
UID:10001033-1765287900-1765291500@irmamier.com
SUMMARY:MEDITACIÓN Y MÁS. Bilbao
DESCRIPTION:En Gyrotonic Bilbao. Los martes al medio día. \nClases semanales de meditación y autoconocimiento para el bienestar y el desarrollo personal. \n 
URL:https://irmamier.com/proxima-actividad/meditacion-y-mas-bilbao/2025-12-09/
CATEGORIES:Meditación en Bilbao
ATTACH;FMTTYPE=image/jpeg:https://irmamier.com/wp-content/uploads/2017/03/emakumea-meditatzen.jpg
ORGANIZER;CN="Irma Mier":MAILTO:infoirmamier@gmail.com
END:VEVENT
BEGIN:VEVENT
DTSTART;TZID=Europe/Madrid:20251202T134500
DTEND;TZID=Europe/Madrid:20251202T144500
DTSTAMP:20260420T122637
CREATED:20250927T091050Z
LAST-MODIFIED:20251020T164504Z
UID:10001032-1764683100-1764686700@irmamier.com
SUMMARY:MEDITACIÓN Y MÁS. Bilbao
DESCRIPTION:En Gyrotonic Bilbao. Los martes al medio día. \nClases semanales de meditación y autoconocimiento para el bienestar y el desarrollo personal. \n 
URL:https://irmamier.com/proxima-actividad/meditacion-y-mas-bilbao/2025-12-02/
CATEGORIES:Meditación en Bilbao
ATTACH;FMTTYPE=image/jpeg:https://irmamier.com/wp-content/uploads/2017/03/emakumea-meditatzen.jpg
ORGANIZER;CN="Irma Mier":MAILTO:infoirmamier@gmail.com
END:VEVENT
BEGIN:VEVENT
DTSTART;TZID=Europe/Madrid:20251125T134500
DTEND;TZID=Europe/Madrid:20251125T144500
DTSTAMP:20260420T122637
CREATED:20250927T091050Z
LAST-MODIFIED:20251020T164504Z
UID:10001031-1764078300-1764081900@irmamier.com
SUMMARY:MEDITACIÓN Y MÁS. Bilbao
DESCRIPTION:En Gyrotonic Bilbao. Los martes al medio día. \nClases semanales de meditación y autoconocimiento para el bienestar y el desarrollo personal. \n 
URL:https://irmamier.com/proxima-actividad/meditacion-y-mas-bilbao/2025-11-25/
CATEGORIES:Meditación en Bilbao
ATTACH;FMTTYPE=image/jpeg:https://irmamier.com/wp-content/uploads/2017/03/emakumea-meditatzen.jpg
ORGANIZER;CN="Irma Mier":MAILTO:infoirmamier@gmail.com
END:VEVENT
BEGIN:VEVENT
DTSTART;TZID=Europe/Madrid:20251118T134500
DTEND;TZID=Europe/Madrid:20251118T144500
DTSTAMP:20260420T122637
CREATED:20250927T091050Z
LAST-MODIFIED:20251020T164504Z
UID:10001030-1763473500-1763477100@irmamier.com
SUMMARY:MEDITACIÓN Y MÁS. Bilbao
DESCRIPTION:En Gyrotonic Bilbao. Los martes al medio día. \nClases semanales de meditación y autoconocimiento para el bienestar y el desarrollo personal. \n 
URL:https://irmamier.com/proxima-actividad/meditacion-y-mas-bilbao/2025-11-18/
CATEGORIES:Meditación en Bilbao
ATTACH;FMTTYPE=image/jpeg:https://irmamier.com/wp-content/uploads/2017/03/emakumea-meditatzen.jpg
ORGANIZER;CN="Irma Mier":MAILTO:infoirmamier@gmail.com
END:VEVENT
BEGIN:VEVENT
DTSTART;TZID=Europe/Madrid:20251111T134500
DTEND;TZID=Europe/Madrid:20251111T144500
DTSTAMP:20260420T122637
CREATED:20250927T091050Z
LAST-MODIFIED:20251020T164504Z
UID:10001029-1762868700-1762872300@irmamier.com
SUMMARY:MEDITACIÓN Y MÁS. Bilbao
DESCRIPTION:En Gyrotonic Bilbao. Los martes al medio día. \nClases semanales de meditación y autoconocimiento para el bienestar y el desarrollo personal. \n 
URL:https://irmamier.com/proxima-actividad/meditacion-y-mas-bilbao/2025-11-11/
CATEGORIES:Meditación en Bilbao
ATTACH;FMTTYPE=image/jpeg:https://irmamier.com/wp-content/uploads/2017/03/emakumea-meditatzen.jpg
ORGANIZER;CN="Irma Mier":MAILTO:infoirmamier@gmail.com
END:VEVENT
BEGIN:VEVENT
DTSTART;TZID=Europe/Madrid:20251104T134500
DTEND;TZID=Europe/Madrid:20251104T144500
DTSTAMP:20260420T122637
CREATED:20250927T091050Z
LAST-MODIFIED:20251020T164504Z
UID:10001028-1762263900-1762267500@irmamier.com
SUMMARY:MEDITACIÓN Y MÁS. Bilbao
DESCRIPTION:En Gyrotonic Bilbao. Los martes al medio día. \nClases semanales de meditación y autoconocimiento para el bienestar y el desarrollo personal. \n 
URL:https://irmamier.com/proxima-actividad/meditacion-y-mas-bilbao/2025-11-04/
CATEGORIES:Meditación en Bilbao
ATTACH;FMTTYPE=image/jpeg:https://irmamier.com/wp-content/uploads/2017/03/emakumea-meditatzen.jpg
ORGANIZER;CN="Irma Mier":MAILTO:infoirmamier@gmail.com
END:VEVENT
BEGIN:VEVENT
DTSTART;TZID=Europe/Madrid:20251028T134500
DTEND;TZID=Europe/Madrid:20251028T144500
DTSTAMP:20260420T122637
CREATED:20250927T091050Z
LAST-MODIFIED:20251020T164504Z
UID:10001027-1761659100-1761662700@irmamier.com
SUMMARY:MEDITACIÓN Y MÁS. Bilbao
DESCRIPTION:En Gyrotonic Bilbao. Los martes al medio día. \nClases semanales de meditación y autoconocimiento para el bienestar y el desarrollo personal. \n 
URL:https://irmamier.com/proxima-actividad/meditacion-y-mas-bilbao/2025-10-28/
CATEGORIES:Meditación en Bilbao
ATTACH;FMTTYPE=image/jpeg:https://irmamier.com/wp-content/uploads/2017/03/emakumea-meditatzen.jpg
ORGANIZER;CN="Irma Mier":MAILTO:infoirmamier@gmail.com
END:VEVENT
BEGIN:VEVENT
DTSTART;TZID=Europe/Madrid:20251021T134500
DTEND;TZID=Europe/Madrid:20251021T144500
DTSTAMP:20260420T122637
CREATED:20250927T091050Z
LAST-MODIFIED:20251020T164504Z
UID:10001026-1761054300-1761057900@irmamier.com
SUMMARY:MEDITACIÓN Y MÁS. Bilbao
DESCRIPTION:En Gyrotonic Bilbao. Los martes al medio día. \nClases semanales de meditación y autoconocimiento para el bienestar y el desarrollo personal. \n 
URL:https://irmamier.com/proxima-actividad/meditacion-y-mas-bilbao/2025-10-21/
CATEGORIES:Meditación en Bilbao
ATTACH;FMTTYPE=image/jpeg:https://irmamier.com/wp-content/uploads/2017/03/emakumea-meditatzen.jpg
ORGANIZER;CN="Irma Mier":MAILTO:infoirmamier@gmail.com
END:VEVENT
BEGIN:VEVENT
DTSTART;TZID=Europe/Madrid:20251014T134500
DTEND;TZID=Europe/Madrid:20251014T144500
DTSTAMP:20260420T122637
CREATED:20250927T091050Z
LAST-MODIFIED:20251020T164504Z
UID:10001025-1760449500-1760453100@irmamier.com
SUMMARY:MEDITACIÓN Y MÁS. Bilbao
DESCRIPTION:En Gyrotonic Bilbao. Los martes al medio día. \nClases semanales de meditación y autoconocimiento para el bienestar y el desarrollo personal. \n 
URL:https://irmamier.com/proxima-actividad/meditacion-y-mas-bilbao/2025-10-14/
CATEGORIES:Meditación en Bilbao
ATTACH;FMTTYPE=image/jpeg:https://irmamier.com/wp-content/uploads/2017/03/emakumea-meditatzen.jpg
ORGANIZER;CN="Irma Mier":MAILTO:infoirmamier@gmail.com
END:VEVENT
BEGIN:VEVENT
DTSTART;TZID=Europe/Madrid:20251007T134500
DTEND;TZID=Europe/Madrid:20251007T144500
DTSTAMP:20260420T122637
CREATED:20250927T091050Z
LAST-MODIFIED:20251020T164504Z
UID:10001024-1759844700-1759848300@irmamier.com
SUMMARY:MEDITACIÓN Y MÁS. Bilbao
DESCRIPTION:En Gyrotonic Bilbao. Los martes al medio día. \nClases semanales de meditación y autoconocimiento para el bienestar y el desarrollo personal. \n 
URL:https://irmamier.com/proxima-actividad/meditacion-y-mas-bilbao/2025-10-07/
CATEGORIES:Meditación en Bilbao
ATTACH;FMTTYPE=image/jpeg:https://irmamier.com/wp-content/uploads/2017/03/emakumea-meditatzen.jpg
ORGANIZER;CN="Irma Mier":MAILTO:infoirmamier@gmail.com
END:VEVENT
BEGIN:VEVENT
DTSTART;TZID=Europe/Madrid:20250930T134500
DTEND;TZID=Europe/Madrid:20250930T144500
DTSTAMP:20260420T122637
CREATED:20250927T091050Z
LAST-MODIFIED:20251020T164504Z
UID:10001023-1759239900-1759243500@irmamier.com
SUMMARY:MEDITACIÓN Y MÁS. Bilbao
DESCRIPTION:En Gyrotonic Bilbao. Los martes al medio día. \nClases semanales de meditación y autoconocimiento para el bienestar y el desarrollo personal. \n 
URL:https://irmamier.com/proxima-actividad/meditacion-y-mas-bilbao/2025-09-30/
CATEGORIES:Meditación en Bilbao
ATTACH;FMTTYPE=image/jpeg:https://irmamier.com/wp-content/uploads/2017/03/emakumea-meditatzen.jpg
ORGANIZER;CN="Irma Mier":MAILTO:infoirmamier@gmail.com
END:VEVENT
BEGIN:VEVENT
DTSTART;TZID=Europe/Madrid:20250923T134500
DTEND;TZID=Europe/Madrid:20250923T144500
DTSTAMP:20260420T122637
CREATED:20250927T091050Z
LAST-MODIFIED:20251020T164504Z
UID:10001022-1758635100-1758638700@irmamier.com
SUMMARY:MEDITACIÓN Y MÁS. Bilbao
DESCRIPTION:En Gyrotonic Bilbao. Los martes al medio día. \nClases semanales de meditación y autoconocimiento para el bienestar y el desarrollo personal. \n 
URL:https://irmamier.com/proxima-actividad/meditacion-y-mas-bilbao/2025-09-23/
CATEGORIES:Meditación en Bilbao
ATTACH;FMTTYPE=image/jpeg:https://irmamier.com/wp-content/uploads/2017/03/emakumea-meditatzen.jpg
ORGANIZER;CN="Irma Mier":MAILTO:infoirmamier@gmail.com
END:VEVENT
BEGIN:VEVENT
DTSTART;TZID=Europe/Madrid:20240625T134000
DTEND;TZID=Europe/Madrid:20240625T150000
DTSTAMP:20260420T122637
CREATED:20240614T101040Z
LAST-MODIFIED:20240614T101040Z
UID:10000019-1719322800-1719327600@irmamier.com
SUMMARY:Meditación y más
DESCRIPTION:En Bilbo / Bilbao
URL:https://irmamier.com/proxima-actividad/meditacion-y-mas/2024-06-25/
CATEGORIES:Meditación en Bilbao
END:VEVENT
BEGIN:VEVENT
DTSTART;TZID=Europe/Madrid:20240618T134000
DTEND;TZID=Europe/Madrid:20240618T150000
DTSTAMP:20260420T122637
CREATED:20240614T101040Z
LAST-MODIFIED:20240614T101040Z
UID:10000018-1718718000-1718722800@irmamier.com
SUMMARY:Meditación y más
DESCRIPTION:En Bilbo / Bilbao
URL:https://irmamier.com/proxima-actividad/meditacion-y-mas/2024-06-18/
CATEGORIES:Meditación en Bilbao
END:VEVENT
END:VCALENDAR