BEGIN:VCALENDAR
VERSION:2.0
PRODID:-//Irma Mier .:. Bienestar, Salud y Desarrollo Personal - ECPv6.15.18//NONSGML v1.0//EN
CALSCALE:GREGORIAN
METHOD:PUBLISH
X-WR-CALNAME:Irma Mier .:. Bienestar, Salud y Desarrollo Personal
X-ORIGINAL-URL:https://irmamier.com
X-WR-CALDESC:Eventos para Irma Mier .:. Bienestar, Salud y Desarrollo Personal
REFRESH-INTERVAL;VALUE=DURATION:PT1H
X-Robots-Tag:noindex
X-PUBLISHED-TTL:PT1H
BEGIN:VTIMEZONE
TZID:Europe/Madrid
BEGIN:DAYLIGHT
TZOFFSETFROM:+0100
TZOFFSETTO:+0200
TZNAME:CEST
DTSTART:20240331T010000
END:DAYLIGHT
BEGIN:STANDARD
TZOFFSETFROM:+0200
TZOFFSETTO:+0100
TZNAME:CET
DTSTART:20241027T010000
END:STANDARD
BEGIN:DAYLIGHT
TZOFFSETFROM:+0100
TZOFFSETTO:+0200
TZNAME:CEST
DTSTART:20250330T010000
END:DAYLIGHT
BEGIN:STANDARD
TZOFFSETFROM:+0200
TZOFFSETTO:+0100
TZNAME:CET
DTSTART:20251026T010000
END:STANDARD
BEGIN:DAYLIGHT
TZOFFSETFROM:+0100
TZOFFSETTO:+0200
TZNAME:CEST
DTSTART:20260329T010000
END:DAYLIGHT
BEGIN:STANDARD
TZOFFSETFROM:+0200
TZOFFSETTO:+0100
TZNAME:CET
DTSTART:20261025T010000
END:STANDARD
END:VTIMEZONE
BEGIN:VEVENT
DTSTART;TZID=Europe/Madrid:20250601T100000
DTEND;TZID=Europe/Madrid:20250601T110000
DTSTAMP:20260420T022748
CREATED:20250327T102805Z
LAST-MODIFIED:20250327T102805Z
UID:10000059-1748772000-1748775600@irmamier.com
SUMMARY:Autocuidado y Bienestar con Reiki
DESCRIPTION:AUTOCUIDADO Y BIENESTAR CON REIKI \nTaller práctico dirigido a todas la personas que quieran sentirse mejor\, cuidándose de forma responsable y amorosa\, en un ambiente relajado y amable. \nConectaremos con la energía universal\, que es luz\, vida y amor incondicional\, para aprender a armonizarnos. Haremos prácticas individuales\, por parejas y en grupo. \nUn estupendo plan de domingo para empezar bien el mes\, cuidándote\, en buena compañía y muy cerquita de un entorno natural precioso. Tras el taller puedes darte un paseo por los acantilados y playas de la zona sin necesidad de coger el coche. \n¿Te animas? Envíame un WhatsApp al 645005805 \nReserva de plaza por orden de inscripción. \nEn Getxo\nPrimer Domingo de mes\nDe 10h a 11h\nApirilak 6 Abril\nMaiatzak 4 Mayo\nEkainak 1 Junio \nLa inversión es 20€ por sesión.\n* Para quien se comprometa a las 3 sesiones\, un pago único de 55€. \n 
URL:https://irmamier.com/proxima-actividad/autocuidado-y-bienestar-con-reiki-4/
LOCATION:Algorta Yoga Shala\, C/ Ganekogorta\, 8\, Getxo\, Bizkaia
CATEGORIES:Autocuidado y Bienestar,Autocuidado y Bienestar con Reiki
ATTACH;FMTTYPE=image/jpeg:https://irmamier.com/wp-content/uploads/2025/03/DSCF1629-e1743069332146.jpg
ORGANIZER;CN="Irma Mier":MAILTO:infoirmamier@gmail.com
END:VEVENT
END:VCALENDAR