BEGIN:VCALENDAR
VERSION:2.0
PRODID:-//Irma Mier .:. Bienestar, Salud y Desarrollo Personal - ECPv6.15.20//NONSGML v1.0//EN
CALSCALE:GREGORIAN
METHOD:PUBLISH
X-WR-CALNAME:Irma Mier .:. Bienestar, Salud y Desarrollo Personal
X-ORIGINAL-URL:https://irmamier.com
X-WR-CALDESC:Eventos para Irma Mier .:. Bienestar, Salud y Desarrollo Personal
REFRESH-INTERVAL;VALUE=DURATION:PT1H
X-Robots-Tag:noindex
X-PUBLISHED-TTL:PT1H
BEGIN:VTIMEZONE
TZID:Europe/Madrid
BEGIN:DAYLIGHT
TZOFFSETFROM:+0100
TZOFFSETTO:+0200
TZNAME:CEST
DTSTART:20230326T010000
END:DAYLIGHT
BEGIN:STANDARD
TZOFFSETFROM:+0200
TZOFFSETTO:+0100
TZNAME:CET
DTSTART:20231029T010000
END:STANDARD
BEGIN:DAYLIGHT
TZOFFSETFROM:+0100
TZOFFSETTO:+0200
TZNAME:CEST
DTSTART:20240331T010000
END:DAYLIGHT
BEGIN:STANDARD
TZOFFSETFROM:+0200
TZOFFSETTO:+0100
TZNAME:CET
DTSTART:20241027T010000
END:STANDARD
BEGIN:DAYLIGHT
TZOFFSETFROM:+0100
TZOFFSETTO:+0200
TZNAME:CEST
DTSTART:20250330T010000
END:DAYLIGHT
BEGIN:STANDARD
TZOFFSETFROM:+0200
TZOFFSETTO:+0100
TZNAME:CET
DTSTART:20251026T010000
END:STANDARD
END:VTIMEZONE
BEGIN:VEVENT
DTSTART;VALUE=DATE:20240621
DTEND;VALUE=DATE:20240624
DTSTAMP:20260424T015508
CREATED:20240614T102055Z
LAST-MODIFIED:20240614T102055Z
UID:10000001-1718928000-1719187199@irmamier.com
SUMMARY:4° RETIRO EN NATURALEZA • Solsticio de Verano
DESCRIPTION:ECOLOGÍA DEL SER🌻 \n❗️COMPLETO❗️
URL:https://irmamier.com/proxima-actividad/4-retiro-en-naturaleza-solsticio-de-verano/
CATEGORIES:Retiros en Naturaleza. Ecología del Ser
END:VEVENT
END:VCALENDAR